BEGIN:VCALENDAR
VERSION:2.0
PRODID:-//Kington Tourist Information Centre - ECPv5.4.0//NONSGML v1.0//EN
CALSCALE:GREGORIAN
METHOD:PUBLISH
X-WR-CALNAME:Kington Tourist Information Centre
X-ORIGINAL-URL:https://www.kingtontourist.info
X-WR-CALDESC:Events for Kington Tourist Information Centre
BEGIN:VTIMEZONE
TZID:Europe/London
BEGIN:DAYLIGHT
TZOFFSETFROM:+0000
TZOFFSETTO:+0100
TZNAME:BST
DTSTART:20230326T010000
END:DAYLIGHT
BEGIN:STANDARD
TZOFFSETFROM:+0100
TZOFFSETTO:+0000
TZNAME:GMT
DTSTART:20231029T010000
END:STANDARD
END:VTIMEZONE
BEGIN:VEVENT
DTSTART;TZID=Europe/London:20230405T103000
DTEND;TZID=Europe/London:20230405T123000
DTSTAMP:20260423T095440
CREATED:20230406T160502Z
LAST-MODIFIED:20231003T154033Z
UID:14062-1680690600-1680697800@www.kingtontourist.info
SUMMARY:Birches Farm Wellbeing Garden
DESCRIPTION:Birches Farm Wellbeing Garden\n\nJoin us for gentle wildlife-friendly gardening and wildlife surveying in a safe and supportive environment. This group is free to attend and open to all but would particularly suit anyone living with mild mental health challenges. \nOur group meets every Wednesday\, from 10.30am to 12.30pm \nBirches Farm Nature Reserve\, A4111\, near Kington HR5 3EY \nFree\, opento all
URL:https://www.kingtontourist.info/event/birches-farm-wellbeing-garden/2023-04-05/
LOCATION:Birches Farm\, Kington\, Herefordshire\, HR5 3EY\, United Kingdom
CATEGORIES:Community,Nature
ATTACH;FMTTYPE=image/png:https://www.kingtontourist.info/wp-content/uploads/2017/05/wtlogo.png
ORGANIZER;CN="Althea%20Waterfield":MAILTO:a.waterfield@herefordshirewt.co.uk 
END:VEVENT
END:VCALENDAR