BEGIN:VCALENDAR
VERSION:2.0
PRODID:-//Kington Tourist Information Centre - ECPv5.4.0//NONSGML v1.0//EN
CALSCALE:GREGORIAN
METHOD:PUBLISH
X-WR-CALNAME:Kington Tourist Information Centre
X-ORIGINAL-URL:https://www.kingtontourist.info
X-WR-CALDESC:Events for Kington Tourist Information Centre
BEGIN:VTIMEZONE
TZID:Europe/London
BEGIN:DAYLIGHT
TZOFFSETFROM:+0000
TZOFFSETTO:+0100
TZNAME:BST
DTSTART:20230326T010000
END:DAYLIGHT
BEGIN:STANDARD
TZOFFSETFROM:+0100
TZOFFSETTO:+0000
TZNAME:GMT
DTSTART:20231029T010000
END:STANDARD
END:VTIMEZONE
BEGIN:VEVENT
DTSTART;TZID=Europe/London:20231111T100000
DTEND;TZID=Europe/London:20231111T170000
DTSTAMP:20260424T000344
CREATED:20230914T212645Z
LAST-MODIFIED:20231003T194509Z
UID:16193-1699696800-1699722000@www.kingtontourist.info
SUMMARY:Christmas Fair-Almeley
DESCRIPTION:Christmas Fair is booked for 11th November. Come along and support local enterprises or if you want to book a table contact judyhayes618@gmail.com.
URL:https://www.kingtontourist.info/event/christmas-fair/
LOCATION:Almeley Village Hall\, Nr Kington\, HR3 6NE\, United Kingdom
GEO:52.158802;-2.9749349
X-APPLE-STRUCTURED-LOCATION;VALUE=URI;X-ADDRESS=Almeley Village Hall Nr Kington HR3 6NE United Kingdom;X-APPLE-RADIUS=500;X-TITLE=Nr Kington:geo:-2.9749349,52.158802
END:VEVENT
END:VCALENDAR