BEGIN:VCALENDAR
VERSION:2.0
PRODID:-//Kington Tourist Information Centre - ECPv5.4.0//NONSGML v1.0//EN
CALSCALE:GREGORIAN
METHOD:PUBLISH
X-WR-CALNAME:Kington Tourist Information Centre
X-ORIGINAL-URL:https://www.kingtontourist.info
X-WR-CALDESC:Events for Kington Tourist Information Centre
BEGIN:VTIMEZONE
TZID:Europe/London
BEGIN:DAYLIGHT
TZOFFSETFROM:+0000
TZOFFSETTO:+0100
TZNAME:BST
DTSTART:20220327T010000
END:DAYLIGHT
BEGIN:STANDARD
TZOFFSETFROM:+0100
TZOFFSETTO:+0000
TZNAME:GMT
DTSTART:20221030T010000
END:STANDARD
END:VTIMEZONE
BEGIN:VEVENT
DTSTART;TZID=Europe/London:20221201T180000
DTEND;TZID=Europe/London:20221201T180000
DTSTAMP:20260420T154438
CREATED:20221108T154342Z
LAST-MODIFIED:20221108T171703Z
UID:13100-1669917600-1669917600@www.kingtontourist.info
SUMMARY:Kington Lights Switch On
DESCRIPTION:Market Hall and Place de Marines Kington \nCarol Singing\, Meet Santa\, Mince Pies\, Hot Chocolate\, Hot Gin & Tonics
URL:https://www.kingtontourist.info/event/kington-lights-switch-on/
LOCATION:Kington Place de Marines and Coach House\, Town Centre\, Kington\, He\, HR5 3BQ\, United Kingdom
CATEGORIES:Community
END:VEVENT
END:VCALENDAR