BEGIN:VCALENDAR
VERSION:2.0
PRODID:-//Kington Tourist Information Centre - ECPv5.4.0//NONSGML v1.0//EN
CALSCALE:GREGORIAN
METHOD:PUBLISH
X-WR-CALNAME:Kington Tourist Information Centre
X-ORIGINAL-URL:https://www.kingtontourist.info
X-WR-CALDESC:Events for Kington Tourist Information Centre
BEGIN:VTIMEZONE
TZID:Europe/London
BEGIN:DAYLIGHT
TZOFFSETFROM:+0000
TZOFFSETTO:+0100
TZNAME:BST
DTSTART:20160327T010000
END:DAYLIGHT
BEGIN:STANDARD
TZOFFSETFROM:+0100
TZOFFSETTO:+0000
TZNAME:GMT
DTSTART:20161030T010000
END:STANDARD
END:VTIMEZONE
BEGIN:VEVENT
DTSTART;TZID=Europe/London:20160325T120000
DTEND;TZID=Europe/London:20160326T000000
DTSTAMP:20260422T113338
CREATED:20160226T165340Z
LAST-MODIFIED:20160226T174529Z
UID:2515-1458907200-1458950400@www.kingtontourist.info
SUMMARY:Kington & Radnor Cross Border Beer festival
DESCRIPTION:The inaugural Kington and Radnor cross border beer festival takes place this Easter on Good Friday and Saturday 25th and 26th March. Four pubs in Kington taking part include the Olde Tavern\, Oxford Arms\, Swan on the Square and Royal Oak. In Radnorshire there is the Radnor Arms and Radnorshire brewery bar in New Radnor and the Fforest Inn at Llanfiange-Nant-Melan. All are accessible on the 461 bus which runs from Hereford to Llandrindod Wells almost hourly throughout the day with the last bus back around 7pm. If purchasing a return ticket journey’s can be broken. For those wanting to experience the fabulous Radnorshire countryside there is a guided walk on the Saturday starting at the bus stop in New Radnor at 10.30am to the Fforest Inn. It’s a hilly 5 and a half mile walk with splendid views. There is the option of walking back to New Radnor\, just over 4 miles\, at about 2pm. Entry is £5 (£4 for camra members) for either or both walks. “Over the Hillbillies” are playing at the Swan in Kington on the Friday night.
URL:https://www.kingtontourist.info/event/kington-radnor-cross-border-beer-festival/
LOCATION:Kington & Radnor Beer festival\, Kington and Radnorshire\, HR5\, United Kingdom
CATEGORIES:Festivals,Food and Drink,Walking
ORGANIZER;CN="Geoff%20Cooper":MAILTO:geoffandpatsy@kayoss.co.uk
GEO:52.2174397;-3.0811857
X-APPLE-STRUCTURED-LOCATION;VALUE=URI;X-ADDRESS=Kington & Radnor Beer festival Kington and Radnorshire HR5 United Kingdom;X-APPLE-RADIUS=500;X-TITLE=Kington and Radnorshire:geo:-3.0811857,52.2174397
END:VEVENT
END:VCALENDAR