BEGIN:VCALENDAR
VERSION:2.0
PRODID:-//Kington Tourist Information Centre - ECPv5.4.0//NONSGML v1.0//EN
CALSCALE:GREGORIAN
METHOD:PUBLISH
X-WR-CALNAME:Kington Tourist Information Centre
X-ORIGINAL-URL:https://www.kingtontourist.info
X-WR-CALDESC:Events for Kington Tourist Information Centre
BEGIN:VTIMEZONE
TZID:Europe/London
BEGIN:DAYLIGHT
TZOFFSETFROM:+0000
TZOFFSETTO:+0100
TZNAME:BST
DTSTART:20180325T010000
END:DAYLIGHT
BEGIN:STANDARD
TZOFFSETFROM:+0100
TZOFFSETTO:+0000
TZNAME:GMT
DTSTART:20181028T010000
END:STANDARD
END:VTIMEZONE
BEGIN:VEVENT
DTSTART;TZID=Europe/London:20181103T184500
DTEND;TZID=Europe/London:20181103T184500
DTSTAMP:20260420T113138
CREATED:20160801T200613Z
LAST-MODIFIED:20181102T085028Z
UID:4312-1541270700-1541270700@www.kingtontourist.info
SUMMARY:Kington's Annual Firework Display
DESCRIPTION:Join in the fun for Firework Night
URL:https://www.kingtontourist.info/event/kingtons-annual-firework-display/
LOCATION:Recreation Ground\, Park Avenue\, Kington\, HR5\, United Kingdom
CATEGORIES:Family
GEO:52.2019416;-3.0360985
X-APPLE-STRUCTURED-LOCATION;VALUE=URI;X-ADDRESS=Recreation Ground Park Avenue Kington HR5 United Kingdom;X-APPLE-RADIUS=500;X-TITLE=Park Avenue:geo:-3.0360985,52.2019416
END:VEVENT
END:VCALENDAR