BEGIN:VCALENDAR
VERSION:2.0
PRODID:-//Kington Tourist Information Centre - ECPv5.4.0//NONSGML v1.0//EN
CALSCALE:GREGORIAN
METHOD:PUBLISH
X-WR-CALNAME:Kington Tourist Information Centre
X-ORIGINAL-URL:https://www.kingtontourist.info
X-WR-CALDESC:Events for Kington Tourist Information Centre
BEGIN:VTIMEZONE
TZID:Europe/London
BEGIN:DAYLIGHT
TZOFFSETFROM:+0000
TZOFFSETTO:+0100
TZNAME:BST
DTSTART:20250330T010000
END:DAYLIGHT
BEGIN:STANDARD
TZOFFSETFROM:+0100
TZOFFSETTO:+0000
TZNAME:GMT
DTSTART:20251026T010000
END:STANDARD
END:VTIMEZONE
BEGIN:VEVENT
DTSTART;VALUE=DATE:20250509
DTEND;VALUE=DATE:20250511
DTSTAMP:20260421T091834
CREATED:20190506T214155Z
LAST-MODIFIED:20250507T105004Z
UID:10942-1746748800-1746921599@www.kingtontourist.info
SUMMARY:May Fair
DESCRIPTION:May Fun Fair rides and fun. See posters around town for opening times
URL:https://www.kingtontourist.info/event/may-fair/
LOCATION:Kington Recreation Ground\, Park Avenue\, Kington \, HR5
GEO:52.2019416;-3.0360985
X-APPLE-STRUCTURED-LOCATION;VALUE=URI;X-ADDRESS=Kington Recreation Ground Park Avenue Kington  HR5;X-APPLE-RADIUS=500;X-TITLE=Park Avenue:geo:-3.0360985,52.2019416
END:VEVENT
END:VCALENDAR