BEGIN:VCALENDAR
VERSION:2.0
PRODID:-//Kington Tourist Information Centre - ECPv5.4.0//NONSGML v1.0//EN
CALSCALE:GREGORIAN
METHOD:PUBLISH
X-WR-CALNAME:Kington Tourist Information Centre
X-ORIGINAL-URL:https://www.kingtontourist.info
X-WR-CALDESC:Events for Kington Tourist Information Centre
BEGIN:VTIMEZONE
TZID:Europe/London
BEGIN:DAYLIGHT
TZOFFSETFROM:+0000
TZOFFSETTO:+0100
TZNAME:BST
DTSTART:20200329T010000
END:DAYLIGHT
BEGIN:STANDARD
TZOFFSETFROM:+0100
TZOFFSETTO:+0000
TZNAME:GMT
DTSTART:20201025T010000
END:STANDARD
END:VTIMEZONE
BEGIN:VEVENT
DTSTART;TZID=Europe/London:20200325T193000
DTEND;TZID=Europe/London:20200325T193000
DTSTAMP:20260419T145202
CREATED:20200226T222926Z
LAST-MODIFIED:20200318T181743Z
UID:12289-1585164600-1585164600@www.kingtontourist.info
SUMMARY:Poetry-Presteigne - CANCELLED
DESCRIPTION:Wednesday 25 March\nReadings by the poet\, MANUEL IRIS followed by Q&A\nPresteigne Assembly Rooms 7.30pm \nMid Border Arts and the Sidney Nolan Trust have organised this event with celebrated Mexican poet Manuel Iris\, Poet Laureate of the City of Cincinnati. Manuel Iris is coming to the UK as a visiting research fellow of the University of Roehampton and will spend a week at The Rodd. His poetry reflects his obsession with beauty\, time\, death\, and the bridges that marry them. \nIris received the “Merida” National award of poetry (Mexico\, 2009) for his book 'Notebook of dreams'\, and the Rodulfo Figueroa Regional award of poetry for his book 'The disguises of fire' (Mexico\, 2014). In 2016 three different anthologies of his poetic work were published: 'The naked light'\, in Venezuela; 'Before the mystery'\, in El Salvador\, and 'Traducir el silencio/Translating silence'\, in New York. The book won two different awards in the International Latino Book Awards in Los Angeles in 2018. \nTickets £5 at the Workhouse (cash only)\, wegottickets.com and on the door. \n 
URL:https://www.kingtontourist.info/event/poetry-presteigne/
LOCATION:Presteigne Assembly Rooms\, Broad Street\, Presteigne\, LD8 2AD\, United Kingdom
CATEGORIES:Theatre
GEO:52.2741699;-3.0048279
X-APPLE-STRUCTURED-LOCATION;VALUE=URI;X-ADDRESS=Presteigne Assembly Rooms Broad Street Presteigne LD8 2AD United Kingdom;X-APPLE-RADIUS=500;X-TITLE=Broad Street:geo:-3.0048279,52.2741699
END:VEVENT
END:VCALENDAR