BEGIN:VCALENDAR
VERSION:2.0
PRODID:-//Kington Tourist Information Centre - ECPv5.4.0//NONSGML v1.0//EN
CALSCALE:GREGORIAN
METHOD:PUBLISH
X-WR-CALNAME:Kington Tourist Information Centre
X-ORIGINAL-URL:https://www.kingtontourist.info
X-WR-CALDESC:Events for Kington Tourist Information Centre
BEGIN:VTIMEZONE
TZID:Europe/London
BEGIN:DAYLIGHT
TZOFFSETFROM:+0000
TZOFFSETTO:+0100
TZNAME:BST
DTSTART:20200329T010000
END:DAYLIGHT
BEGIN:STANDARD
TZOFFSETFROM:+0100
TZOFFSETTO:+0000
TZNAME:GMT
DTSTART:20201025T010000
END:STANDARD
END:VTIMEZONE
BEGIN:VEVENT
DTSTART;TZID=Europe/London:20200321T100000
DTEND;TZID=Europe/London:20200321T140000
DTSTAMP:20260419T145202
CREATED:20200226T222306Z
LAST-MODIFIED:20200318T181546Z
UID:12285-1584784800-1584799200@www.kingtontourist.info
SUMMARY:Sale-Presteigne - POSTPONED
DESCRIPTION:Saturday 21 March\n4th Annual Grand Spring Sale \nFabulous clothes\, vintage\, collectables & jumble\nTea\, coffee & cakes\nPresteigne Assembly Rooms 10am - 2pm\n£1 Entry for Shelter and Help Refugees\nInfo: Sabina Ruber 01544 262864 / Kate Bull 01544 370637
URL:https://www.kingtontourist.info/event/sale-presteigne/
LOCATION:Presteigne Assembly Rooms\, Broad Street\, Presteigne\, LD8 2AD\, United Kingdom
CATEGORIES:Sale
GEO:52.2741699;-3.0048279
X-APPLE-STRUCTURED-LOCATION;VALUE=URI;X-ADDRESS=Presteigne Assembly Rooms Broad Street Presteigne LD8 2AD United Kingdom;X-APPLE-RADIUS=500;X-TITLE=Broad Street:geo:-3.0048279,52.2741699
END:VEVENT
END:VCALENDAR