BEGIN:VCALENDAR
VERSION:2.0
PRODID:-//Kington Tourist Information Centre - ECPv5.4.0//NONSGML v1.0//EN
CALSCALE:GREGORIAN
METHOD:PUBLISH
X-WR-CALNAME:Kington Tourist Information Centre
X-ORIGINAL-URL:https://www.kingtontourist.info
X-WR-CALDESC:Events for Kington Tourist Information Centre
BEGIN:VTIMEZONE
TZID:Europe/London
BEGIN:DAYLIGHT
TZOFFSETFROM:+0000
TZOFFSETTO:+0100
TZNAME:BST
DTSTART:20230326T010000
END:DAYLIGHT
BEGIN:STANDARD
TZOFFSETFROM:+0100
TZOFFSETTO:+0000
TZNAME:GMT
DTSTART:20231029T010000
END:STANDARD
END:VTIMEZONE
BEGIN:VEVENT
DTSTART;TZID=Europe/London:20230726T193000
DTEND;TZID=Europe/London:20230726T193000
DTSTAMP:20260420T151617
CREATED:20230617T113739Z
LAST-MODIFIED:20230617T114219Z
UID:14364-1690399800-1690399800@www.kingtontourist.info
SUMMARY:Sense and Sensibility - Open Air Theatre
DESCRIPTION:Sense and Sensibility\nWednesday 26th July 2023 7.30pm \nWe are welcoming back Heartbreak Productions for an evening of Jane Austen. This performance\, as are all our shows\, out of doors\, so check the weather\, dress appropriately\, and bring a picnic. \nTickets are priced at £14 for adults and £7 for children. Tickets can be bought in advance through the Heartbreak website or by cash or card on the night. \n01544 388222 \nheartbreakproductions.co.uk
URL:https://www.kingtontourist.info/event/sense-and-sensibility-open-air-theatre/
LOCATION:Burton Court HR6 9DN\, Eardisland\, Nr Leominster\, Herefordshire\, HR6 9DN\, United Kingdom
CATEGORIES:Theatre
END:VEVENT
END:VCALENDAR