BEGIN:VCALENDAR
VERSION:2.0
PRODID:-//Kington Tourist Information Centre - ECPv5.4.0//NONSGML v1.0//EN
CALSCALE:GREGORIAN
METHOD:PUBLISH
X-WR-CALNAME:Kington Tourist Information Centre
X-ORIGINAL-URL:https://www.kingtontourist.info
X-WR-CALDESC:Events for Kington Tourist Information Centre
BEGIN:VTIMEZONE
TZID:Europe/London
BEGIN:DAYLIGHT
TZOFFSETFROM:+0000
TZOFFSETTO:+0100
TZNAME:BST
DTSTART:20160327T010000
END:DAYLIGHT
BEGIN:STANDARD
TZOFFSETFROM:+0100
TZOFFSETTO:+0000
TZNAME:GMT
DTSTART:20161030T010000
END:STANDARD
END:VTIMEZONE
BEGIN:VEVENT
DTSTART;TZID=Europe/London:20160626T140000
DTEND;TZID=Europe/London:20160626T180000
DTSTAMP:20260422T095628
CREATED:20160624T121131Z
LAST-MODIFIED:20160624T121131Z
UID:4084-1466949600-1466964000@www.kingtontourist.info
SUMMARY:This is a Voice
DESCRIPTION:Informal and informative interactive afternoon led by local authors and voice experts\, Gillyanne Kayes and Jeremy Fisher. \nDiscover how and why voices can sing as well as speak and why ventriloquists need to practice so much. \nTickets from Workhouse Gallery\, Courtyard Antiques or www.wegottickets.com
URL:https://www.kingtontourist.info/event/this-is-a-voice/
LOCATION:The Assembley Rooms\, Presteigne\, Powys\, LD8 2AD\, United Kingdom
GEO:52.2736884;-3.0056089
END:VEVENT
END:VCALENDAR