BEGIN:VCALENDAR
VERSION:2.0
PRODID:-//Kington Tourist Information Centre - ECPv5.4.0//NONSGML v1.0//EN
CALSCALE:GREGORIAN
METHOD:PUBLISH
X-WR-CALNAME:Kington Tourist Information Centre
X-ORIGINAL-URL:https://www.kingtontourist.info
X-WR-CALDESC:Events for Kington Tourist Information Centre
BEGIN:VTIMEZONE
TZID:Europe/London
BEGIN:DAYLIGHT
TZOFFSETFROM:+0000
TZOFFSETTO:+0100
TZNAME:BST
DTSTART:20160327T010000
END:DAYLIGHT
BEGIN:STANDARD
TZOFFSETFROM:+0100
TZOFFSETTO:+0000
TZNAME:GMT
DTSTART:20161030T010000
END:STANDARD
END:VTIMEZONE
BEGIN:VEVENT
DTSTART;TZID=Europe/London:20160514T080000
DTEND;TZID=Europe/London:20160514T170000
DTSTAMP:20260422T201009
CREATED:20160511T135004Z
LAST-MODIFIED:20160511T135004Z
UID:3483-1463212800-1463245200@www.kingtontourist.info
SUMMARY:Horse Show
DESCRIPTION:Horse Show \nLeen Farm Pembridge HR6 9HN\nInter Hunt Relay\nWorking Hunter Classes\nShowing (Ridden and In-Hand)\nClear Round Show Jumping\nRefreshments and Licensed Bar\n07799744567
URL:https://www.kingtontourist.info/event/horse-show/
LOCATION:Radnor and West hereford Hunt\, Leen Farm\, Pembridge\, HR6 9HN\, United Kingdom
CATEGORIES:Horse,Shows
ORGANIZER;CN="Richard%20Jones%2FFenella%20Hall":MAILTO:fen_105@hotmail.com
GEO:52.2261466;-2.9044225
X-APPLE-STRUCTURED-LOCATION;VALUE=URI;X-ADDRESS=Radnor and West hereford Hunt Leen Farm Pembridge HR6 9HN United Kingdom;X-APPLE-RADIUS=500;X-TITLE=Leen Farm:geo:-2.9044225,52.2261466
END:VEVENT
BEGIN:VEVENT
DTSTART;TZID=Europe/London:20160514T100000
DTEND;TZID=Europe/London:20160515T180000
DTSTAMP:20260422T201009
CREATED:20160512T143155Z
LAST-MODIFIED:20160512T143440Z
UID:3589-1463220000-1463335200@www.kingtontourist.info
SUMMARY:National Mills Weekend
DESCRIPTION:National Mills Weekend \nMany to visit throughout the area 3 within easy reach of Kington. \nHergest Mill HR5 3EL open Sunday 15th 10am to 6pm\nCourt of Noke HR6 9HW open Sat and Sun 10am-4pm\nStaunton Mill HR6 9HR open Sat and Sun 10am-5pm
URL:https://www.kingtontourist.info/event/national-mills-weekend/
CATEGORIES:Architechture,Engineering,History
END:VEVENT
BEGIN:VEVENT
DTSTART;TZID=Europe/London:20160514T103000
DTEND;TZID=Europe/London:20160514T123000
DTSTAMP:20260422T201009
CREATED:20160511T140414Z
LAST-MODIFIED:20160511T142333Z
UID:3486-1463221800-1463229000@www.kingtontourist.info
SUMMARY:Spring Sale
DESCRIPTION:Herefordshire Wildlife Trust Kington Branch Spring Sale \n10.30 am - 12.30 pm\nThe Market Hall\nKington \n 
URL:https://www.kingtontourist.info/event/spring-sale/
LOCATION:Market Hall & Place de Marines\,  Kington\, HR5 3BQ\, United Kingdom
CATEGORIES:Sale,Wildlife
ORGANIZER;CN="Herefordshire%20Wildlife%20Trust%20Kington%20Branch":MAILTO:sarahcad@aol.com
GEO:52.203142;-3.0312472
END:VEVENT
BEGIN:VEVENT
DTSTART;TZID=Europe/London:20160514T103000
DTEND;TZID=Europe/London:20160514T130000
DTSTAMP:20260422T201009
CREATED:20160511T143320Z
LAST-MODIFIED:20160511T150443Z
UID:3492-1463221800-1463230800@www.kingtontourist.info
SUMMARY:Table Top Sale
DESCRIPTION:Table Top Sale at New Radnor Community Centre \n10.30 am - 1 pm \n 
URL:https://www.kingtontourist.info/event/table-top-sale-new-radnor/
LOCATION:New Radnor Community Hall\, Hall Lane\, New Radnor\, Presteigne\, LD8 2SW\, United Kingdom
CATEGORIES:Sale
ORGANIZER;CN="Amanda%20Giordano":MAILTO:giordano.amanda.gmail.com
GEO:52.2399841;-3.1547255
X-APPLE-STRUCTURED-LOCATION;VALUE=URI;X-ADDRESS=New Radnor Community Hall Hall Lane New Radnor Presteigne LD8 2SW United Kingdom;X-APPLE-RADIUS=500;X-TITLE=Hall Lane:geo:-3.1547255,52.2399841
END:VEVENT
BEGIN:VEVENT
DTSTART;TZID=Europe/London:20160514T193000
DTEND;TZID=Europe/London:20160514T193000
DTSTAMP:20260422T201009
CREATED:20160511T142124Z
LAST-MODIFIED:20160511T142446Z
UID:3489-1463254200-1463254200@www.kingtontourist.info
SUMMARY:Kington Choral Society Concert
DESCRIPTION:14 May 2016\nConcert\nJenkins\nThe Armed Man\nRutter\nRequiemSt Mary’s Church\, Kington\, 19:30\nTickets: £12 (Earlybird) / £12 (On the door\, or after 7 May 2016).\nFor queries\, or to book by phone\, contact: 07968044853
URL:https://www.kingtontourist.info/event/kington-choral-society-concert/
LOCATION:St Mary’s  and St Stephen’s Churches\, Kington & Old Radnor\, United Kingdom
CATEGORIES:Music
ORGANIZER;CN="Kington%20Choral%20Society":MAILTO:kingtonchoral@mail.com
GEO:52.225627;-3.099451
END:VEVENT
END:VCALENDAR