BEGIN:VCALENDAR
VERSION:2.0
PRODID:-//Kington Tourist Information Centre - ECPv5.4.0//NONSGML v1.0//EN
CALSCALE:GREGORIAN
METHOD:PUBLISH
X-WR-CALNAME:Kington Tourist Information Centre
X-ORIGINAL-URL:https://www.kingtontourist.info
X-WR-CALDESC:Events for Kington Tourist Information Centre
BEGIN:VTIMEZONE
TZID:Europe/London
BEGIN:DAYLIGHT
TZOFFSETFROM:+0000
TZOFFSETTO:+0100
TZNAME:BST
DTSTART:20160327T010000
END:DAYLIGHT
BEGIN:STANDARD
TZOFFSETFROM:+0100
TZOFFSETTO:+0000
TZNAME:GMT
DTSTART:20161030T010000
END:STANDARD
END:VTIMEZONE
BEGIN:VEVENT
DTSTART;TZID=Europe/London:20160602T103000
DTEND;TZID=Europe/London:20160602T123000
DTSTAMP:20260422T183649
CREATED:20160604T055941Z
LAST-MODIFIED:20160604T055941Z
UID:3890-1464863400-1464870600@www.kingtontourist.info
SUMMARY:Wild Play
DESCRIPTION:Test your magic powers at Herefordshire Wildlife Trust WildPlay \nGreenfields\, Kington 10.30-12.30 \nGreenfields is a green space in the centre of a small housing estate in Kington
URL:https://www.kingtontourist.info/event/wild-play/
LOCATION:Greenfields\, United Kingdom
ATTACH;FMTTYPE=image/png:https://www.kingtontourist.info/wp-content/uploads/2016/06/logo.png
GEO:55.378051;-3.435973
END:VEVENT
END:VCALENDAR