BEGIN:VCALENDAR
VERSION:2.0
PRODID:-//Kington Tourist Information Centre - ECPv5.4.0//NONSGML v1.0//EN
CALSCALE:GREGORIAN
METHOD:PUBLISH
X-WR-CALNAME:Kington Tourist Information Centre
X-ORIGINAL-URL:https://www.kingtontourist.info
X-WR-CALDESC:Events for Kington Tourist Information Centre
BEGIN:VTIMEZONE
TZID:Europe/London
BEGIN:DAYLIGHT
TZOFFSETFROM:+0000
TZOFFSETTO:+0100
TZNAME:BST
DTSTART:20160327T010000
END:DAYLIGHT
BEGIN:STANDARD
TZOFFSETFROM:+0100
TZOFFSETTO:+0000
TZNAME:GMT
DTSTART:20161030T010000
END:STANDARD
END:VTIMEZONE
BEGIN:VEVENT
DTSTART;TZID=Europe/London:20160603T110000
DTEND;TZID=Europe/London:20160603T170000
DTSTAMP:20260422T183811
CREATED:20160511T111257Z
LAST-MODIFIED:20160511T112904Z
UID:3469-1464951600-1464973200@www.kingtontourist.info
SUMMARY:NGS Rhodds Farm
DESCRIPTION:NGS Rhodds Farm Lynonshall HR5 3LW Open Garden \nThe garden began in 2005 and is still a work in progress. The site is challenging with steep banks rising to overhanging woodland but has wonderful views. Formal garden leads to new dovecote\, mixed borders have interest throughout the year with the double herbaceous borders of hot colours being particularly good in summer. Woodland walks with wonderful bluebells in spring. See garden website for detailed description. \n  \n11am-5pm \n£5 and children free \nTea and cake will be available for guests to help themselves in return for a donation.
URL:https://www.kingtontourist.info/event/ngs-rhodds-farm/2016-06-03/
LOCATION:Rhodds Farm\, Lyonshall\, Kington\, HR5 3LW\, United Kingdom
CATEGORIES:Gardens,Teas
GEO:52.192267;-3.0036969
X-APPLE-STRUCTURED-LOCATION;VALUE=URI;X-ADDRESS=Rhodds Farm Lyonshall Kington HR5 3LW United Kingdom;X-APPLE-RADIUS=500;X-TITLE=Lyonshall:geo:-3.0036969,52.192267
END:VEVENT
END:VCALENDAR