BEGIN:VCALENDAR
VERSION:2.0
PRODID:-//Kington Tourist Information Centre - ECPv5.4.0//NONSGML v1.0//EN
CALSCALE:GREGORIAN
METHOD:PUBLISH
X-WR-CALNAME:Kington Tourist Information Centre
X-ORIGINAL-URL:https://www.kingtontourist.info
X-WR-CALDESC:Events for Kington Tourist Information Centre
BEGIN:VTIMEZONE
TZID:Europe/London
BEGIN:DAYLIGHT
TZOFFSETFROM:+0000
TZOFFSETTO:+0100
TZNAME:BST
DTSTART:20160327T010000
END:DAYLIGHT
BEGIN:STANDARD
TZOFFSETFROM:+0100
TZOFFSETTO:+0000
TZNAME:GMT
DTSTART:20161030T010000
END:STANDARD
END:VTIMEZONE
BEGIN:VEVENT
DTSTART;TZID=Europe/London:20160611T080000
DTEND;TZID=Europe/London:20160626T170000
DTSTAMP:20260422T183740
CREATED:20160218T101216Z
LAST-MODIFIED:20160601T171918Z
UID:2447-1465632000-1466960400@www.kingtontourist.info
SUMMARY:Kington Festival
DESCRIPTION:A celebration of all things Kington\, for the people of Kington and by the people of Kington. \n16 days of events throughout the town.\nFor details see the festival programme on sale at Kington Tourist Information Centre in Church Street and other outlets in town.
URL:https://www.kingtontourist.info/event/kington-festival/
LOCATION:Kington Town\, Kington\, Herefordshire\, HR5\, United Kingdom
CATEGORIES:Festivals
ATTACH;FMTTYPE=image/jpeg:https://www.kingtontourist.info/wp-content/uploads/2016/06/festival2009-copy.jpg
ORGANIZER;CN="Kington%20Festival%20Committee":MAILTO:info@kingtonfestival.co.uk
GEO:52.203742;-3.029048
END:VEVENT
BEGIN:VEVENT
DTSTART;TZID=Europe/London:20160618T100000
DTEND;TZID=Europe/London:20160618T160000
DTSTAMP:20260422T183740
CREATED:20160608T054548Z
LAST-MODIFIED:20160608T054733Z
UID:3913-1466244000-1466265600@www.kingtontourist.info
SUMMARY:Kington Art and Craft Market
DESCRIPTION:An eye-catching array of beautiful handmades will be on show all day from 10am to 4pm in border town Kington’s historic Market Hall and adjacent Place de Marines - the stunning glass-roofed outdoor space filled with the luxuriant planters and hanging baskets of Kington in Bloom. \nThe high quality art and craft desirables\, all by local artists and designer-makers\, include textiles\, paintings\, botanical lightshades\, the Magic Gardener's traveling Domestic Apothecary (custom herbal bathing goodness)\, ceramics\, jewellery\, art cards\, woodcraft\, and more. \nChildren can get creative with a free\, hands-on clay activity\, and the KLEEN Repair Cafe will make its debut in the Market Hall - bring along any hand-carried article that needs to be repaired and let the fixperts help you out. \nA great day out in Kington is assured\, and will be nicely rounded off by the 40th famous annual Wheelbarrow Race at 6pm when a vast army of runners and passengers\, in all manner of novel outfits and vehicles\, will do the rounds of the town hostelries at astonishing speed with the traditional compulsory quaffing pitstops! This event always draws huge crowds to watch and to carry on celebrating with street food and zesty music till late. \nThere are still some stalls available at the market – pitches only cost £7 for a 2 m space/£10 for 4 m. Info or to book a stall contact: Nancy Frost  07867 4783135
URL:https://www.kingtontourist.info/event/kington-art-and-craft-market/
LOCATION:Market Hall & Place de Marines\,  Kington\, HR5 3BQ\, United Kingdom
CATEGORIES:Art,Family,Festivals,Food,Food and Drink,Market,Sale
ATTACH;FMTTYPE=image/jpeg:https://www.kingtontourist.info/wp-content/uploads/2016/06/market-stalls-10-7-15-005-sm.jpg
ORGANIZER;CN="Nancy%20Frost":MAILTO:nancynfrost@gmail.com
GEO:52.203142;-3.0312472
END:VEVENT
BEGIN:VEVENT
DTSTART;TZID=Europe/London:20160618T110000
DTEND;TZID=Europe/London:20160619T170000
DTSTAMP:20260422T183740
CREATED:20160511T133954Z
LAST-MODIFIED:20160623T165510Z
UID:3481-1466247600-1466355600@www.kingtontourist.info
SUMMARY:LEG OF MUTTON ART GALLERY
DESCRIPTION:LEG OF MUTTON ART GALLERY\n17 Duke Street\, Kington HR5 3BL\nImplied Narratives: Mixed-media prints by Aine Venables\, mixed-media\nsculpture by Ita Drew\n18 June-3 July  2016\nOpen Saturday 18 and Sunday 19 June 11 AM to 5 PM\, and then by\nappointment through 3 July
URL:https://www.kingtontourist.info/event/leg-of-mutton-art-gallery-2/
LOCATION:Leg of Mutton Art Gallery\, 17 Duke street\, Kington\, HR5 3BL\, United Kingdom
CATEGORIES:Art
ATTACH;FMTTYPE=image/jpeg:https://www.kingtontourist.info/wp-content/uploads/2016/05/aine-venables-words-are-win.jpg
ORGANIZER;CN="Shannon%20Donovan":MAILTO:shannon@legofmuttongallery.com
GEO:52.2042494;-3.0273594
X-APPLE-STRUCTURED-LOCATION;VALUE=URI;X-ADDRESS=Leg of Mutton Art Gallery 17 Duke street Kington HR5 3BL United Kingdom;X-APPLE-RADIUS=500;X-TITLE=17 Duke street:geo:-3.0273594,52.2042494
END:VEVENT
BEGIN:VEVENT
DTSTART;TZID=Europe/London:20160618T180000
DTEND;TZID=Europe/London:20160618T180000
DTSTAMP:20260422T183740
CREATED:20160527T124540Z
LAST-MODIFIED:20160601T112508Z
UID:3773-1466272800-1466272800@www.kingtontourist.info
SUMMARY:Wheelbarrow Race
DESCRIPTION:Kington Festival's 40th Anniversary Wheelbarrow Race Evening \n6pm Kington Town Centre\nSee Festival Programme for details\nOn sale at the Kington Tourist Information Centre in Church Street
URL:https://www.kingtontourist.info/event/wheelbarrow-race/
LOCATION:Kington\, HR5\, Kington\, Herefordshire\, HR5\, United Kingdom
CATEGORIES:Festivals
ATTACH;FMTTYPE=image/jpeg:https://www.kingtontourist.info/wp-content/uploads/2016/05/wheelbarrow-race-e1464780298462.jpg
ORGANIZER;CN="Kington%20Festival%20Commitee":MAILTO:info@kingtonfestival.co.uk
GEO:52.203742;-3.029048
X-APPLE-STRUCTURED-LOCATION;VALUE=URI;X-ADDRESS=Kington HR5 Kington Herefordshire HR5 United Kingdom;X-APPLE-RADIUS=500;X-TITLE=HR5:geo:-3.029048,52.203742
END:VEVENT
BEGIN:VEVENT
DTSTART;TZID=Europe/London:20160618T190000
DTEND;TZID=Europe/London:20160618T190000
DTSTAMP:20260422T183740
CREATED:20160518T171451Z
LAST-MODIFIED:20160518T171451Z
UID:3633-1466276400-1466276400@www.kingtontourist.info
SUMMARY:Summer Concert: From Bach to Urban Blues
DESCRIPTION:SATURDAY JUNE 18TH\, 7 PM\nST THOMAS À BECKET CHURCH\, HUNTINGTON\nSummer Concert: From Bach to Urban Blues\nSonia Hammond\, the well-known professional cellist from Newchurch and Adrian Crick\, a guitarist from Hay\, come together to perform an evening of eclectic originality.   In another universe\, where Bach had wanted a rhythm guitar for his Sarabande\, Django Reinhardt wrote burlesque waltzes and the Mexicans sang about snow\, it all might have turned out a bit like this programme.\nThe evening will conclude with the famous party\, this time\, in the gardens of Huntington Court\, by kind permission of William and Fiona Shone.  With free wine\, delicious substantial canapés\, lots of friendliness and warmth\, do come and enjoy this exceptional evening.\nYou can order your tickets now at £15 pp to avoid disappointment.  The church can only take 65 people.  Apply on line via: www.huntingtonchurch.co.uk or telephone Fiona Shone: 01544 370391.
URL:https://www.kingtontourist.info/event/summer-concert-from-bach-to-urban-blues/
LOCATION:ST THOMAS À BECKET CHURCH\, Huntington\, HR5 3PY\, United Kingdom
CATEGORIES:Church,Music
GEO:52.1738194;-3.0990753
X-APPLE-STRUCTURED-LOCATION;VALUE=URI;X-ADDRESS=ST THOMAS À BECKET CHURCH Huntington HR5 3PY United Kingdom;X-APPLE-RADIUS=500;X-TITLE=Huntington:geo:-3.0990753,52.1738194
END:VEVENT
END:VCALENDAR