BEGIN:VCALENDAR
VERSION:2.0
PRODID:-//Kington Tourist Information Centre - ECPv5.4.0//NONSGML v1.0//EN
CALSCALE:GREGORIAN
METHOD:PUBLISH
X-WR-CALNAME:Kington Tourist Information Centre
X-ORIGINAL-URL:https://www.kingtontourist.info
X-WR-CALDESC:Events for Kington Tourist Information Centre
BEGIN:VTIMEZONE
TZID:Europe/London
BEGIN:DAYLIGHT
TZOFFSETFROM:+0000
TZOFFSETTO:+0100
TZNAME:BST
DTSTART:20160327T010000
END:DAYLIGHT
BEGIN:STANDARD
TZOFFSETFROM:+0100
TZOFFSETTO:+0000
TZNAME:GMT
DTSTART:20161030T010000
END:STANDARD
END:VTIMEZONE
BEGIN:VEVENT
DTSTART;TZID=Europe/London:20160611T080000
DTEND;TZID=Europe/London:20160626T170000
DTSTAMP:20260422T183812
CREATED:20160218T101216Z
LAST-MODIFIED:20160601T171918Z
UID:2447-1465632000-1466960400@www.kingtontourist.info
SUMMARY:Kington Festival
DESCRIPTION:A celebration of all things Kington\, for the people of Kington and by the people of Kington. \n16 days of events throughout the town.\nFor details see the festival programme on sale at Kington Tourist Information Centre in Church Street and other outlets in town.
URL:https://www.kingtontourist.info/event/kington-festival/
LOCATION:Kington Town\, Kington\, Herefordshire\, HR5\, United Kingdom
CATEGORIES:Festivals
ATTACH;FMTTYPE=image/jpeg:https://www.kingtontourist.info/wp-content/uploads/2016/06/festival2009-copy.jpg
ORGANIZER;CN="Kington%20Festival%20Committee":MAILTO:info@kingtonfestival.co.uk
GEO:52.203742;-3.029048
END:VEVENT
BEGIN:VEVENT
DTSTART;TZID=Europe/London:20160626T030000
DTEND;TZID=Europe/London:20160626T030000
DTSTAMP:20260422T183812
CREATED:20160624T121839Z
LAST-MODIFIED:20160624T121839Z
UID:4086-1466910000-1466910000@www.kingtontourist.info
SUMMARY:A Winter's Tale-Newport House
DESCRIPTION:A Winter's Tale by the Willow Globe Company \nGates open at 2pm
URL:https://www.kingtontourist.info/event/a-winters-tale-newport-house/
LOCATION:Newport House\, Almeley\, Kington\, Herefordshire\, HR3 6LL\, United Kingdom
CATEGORIES:Theatre
ORGANIZER;CN="St%20Michael%27s%20Hospice":MAILTO:events@st-michaels-hospice.org.uk
GEO:52.1627322;-2.9962925
X-APPLE-STRUCTURED-LOCATION;VALUE=URI;X-ADDRESS=Newport House Almeley Kington Herefordshire HR3 6LL United Kingdom;X-APPLE-RADIUS=500;X-TITLE=Almeley:geo:-2.9962925,52.1627322
END:VEVENT
BEGIN:VEVENT
DTSTART;TZID=Europe/London:20160626T110000
DTEND;TZID=Europe/London:20160626T170000
DTSTAMP:20260422T183812
CREATED:20160624T120020Z
LAST-MODIFIED:20160624T120020Z
UID:4083-1466938800-1466960400@www.kingtontourist.info
SUMMARY:Rhos Market Gdn & Hill Retreat Centre Open Day
DESCRIPTION:Rhos Market Garden and Hill Cottage Retreat Centre\n26TH JUNE 2016\nYou will be welcomed by Alice Tite and Mick Westrip from Rhos Market Garden and Zarine Katrak and Jeremy Bruce from Hill Cottage Retreats
URL:https://www.kingtontourist.info/event/rhos-market-gdn-hill-retreat-centre-open-day/
LOCATION:Herefordshire
CATEGORIES:Gardens,Health and Well Being
END:VEVENT
BEGIN:VEVENT
DTSTART;TZID=Europe/London:20160626T140000
DTEND;TZID=Europe/London:20160626T170000
DTSTAMP:20260422T183812
CREATED:20160624T115617Z
LAST-MODIFIED:20160624T115617Z
UID:4081-1466949600-1466960400@www.kingtontourist.info
SUMMARY:Cloister Garden-NGS
DESCRIPTION:Total 6 acres. ½ acre of lavender borders\, rose bank\, terraced lawns and shrubberies leading down to a bog garden. Over a brook to a birch grove\, Wave Garden and up to orchard terraces. Beyond is a new 3 acre woodland\, planted between avenues and a central meadow. Behind the house is a layout for the cloister\, a swimming pond and wild field - level at the top ready for an Earthwork Art project.
URL:https://www.kingtontourist.info/event/cloister-garden-ngs/
LOCATION:Cloister Garden\, Pant Hall\, Willey\, Presteigne\, Herefordshire\, LD8 2LY\, United Kingdom
CATEGORIES:Gardens,Teas
GEO:52.3078745;-2.9837957
X-APPLE-STRUCTURED-LOCATION;VALUE=URI;X-ADDRESS=Cloister Garden Pant Hall Willey Presteigne Herefordshire LD8 2LY United Kingdom;X-APPLE-RADIUS=500;X-TITLE=Pant Hall\, Willey:geo:-2.9837957,52.3078745
END:VEVENT
BEGIN:VEVENT
DTSTART;TZID=Europe/London:20160626T140000
DTEND;TZID=Europe/London:20160626T180000
DTSTAMP:20260422T183812
CREATED:20160624T121131Z
LAST-MODIFIED:20160624T121131Z
UID:4084-1466949600-1466964000@www.kingtontourist.info
SUMMARY:This is a Voice
DESCRIPTION:Informal and informative interactive afternoon led by local authors and voice experts\, Gillyanne Kayes and Jeremy Fisher. \nDiscover how and why voices can sing as well as speak and why ventriloquists need to practice so much. \nTickets from Workhouse Gallery\, Courtyard Antiques or www.wegottickets.com
URL:https://www.kingtontourist.info/event/this-is-a-voice/
LOCATION:The Assembley Rooms\, Presteigne\, Powys\, LD8 2AD\, United Kingdom
GEO:52.2736884;-3.0056089
END:VEVENT
END:VCALENDAR