BEGIN:VCALENDAR
VERSION:2.0
PRODID:-//Kington Tourist Information Centre - ECPv5.4.0//NONSGML v1.0//EN
CALSCALE:GREGORIAN
METHOD:PUBLISH
X-WR-CALNAME:Kington Tourist Information Centre
X-ORIGINAL-URL:https://www.kingtontourist.info
X-WR-CALDESC:Events for Kington Tourist Information Centre
BEGIN:VTIMEZONE
TZID:Europe/London
BEGIN:DAYLIGHT
TZOFFSETFROM:+0000
TZOFFSETTO:+0100
TZNAME:BST
DTSTART:20160327T010000
END:DAYLIGHT
BEGIN:STANDARD
TZOFFSETFROM:+0100
TZOFFSETTO:+0000
TZNAME:GMT
DTSTART:20161030T010000
END:STANDARD
END:VTIMEZONE
BEGIN:VEVENT
DTSTART;TZID=Europe/London:20161008T080000
DTEND;TZID=Europe/London:20161009T170000
DTSTAMP:20260422T095722
CREATED:20161006T140531Z
LAST-MODIFIED:20161006T140531Z
UID:4569-1475913600-1476032400@www.kingtontourist.info
SUMMARY:VSCC Welsh Weekend
DESCRIPTION:VSCC Welsh Weekend. The Vintage Sports Car Club's Autumn rally of the Welsh Marches. More details from Presteigne TIC on 01544 260650 or call in at The Judge's Lodging open between 10am until 5pm Tuesday to Sunday.
URL:https://www.kingtontourist.info/event/vscc-welsh-weekend/
LOCATION:Presteigne\, Powys\, LD8\, United Kingdom
CATEGORIES:Sport,Vintage
END:VEVENT
BEGIN:VEVENT
DTSTART;TZID=Europe/London:20161008T193000
DTEND;TZID=Europe/London:20161008T193000
DTSTAMP:20260422T095722
CREATED:20160922T211352Z
LAST-MODIFIED:20161006T135643Z
UID:4526-1475955000-1475955000@www.kingtontourist.info
SUMMARY:Music in New Radnor
DESCRIPTION:SATURDAY OCTOBER 12th. 2016 \nBORDERS TRIO \nNew Works for an Unusual Trio \nAnna Perry clarinet\, David Grubb violin\, Jess Ryan-Phillips piano \n        Not your typical chamber ensemble. \nBorders Trio is an innovative\, vibrant young group of players with a fresh style. Their performances are inspiring\, sparkling and uplifting. Since their first appearance here\, their repertoire has continued to develop and we look forward to welcoming them back for this return visit. \nTonight’s concert will include works by David Grubb\, Arthur Bliss\, Menotti\, Khachaturian\, as well as Alison Chai'sSuite andRosemary Kempson's Time and Motion; two of three works written especially for the trio. \nwww.borderstrio.co.uk \nTickets £8 (under 14s £3) box office 01544 231732
URL:https://www.kingtontourist.info/event/4526/
LOCATION:New Radnor Community Hall\, Hall Lane\, New Radnor\, Presteigne\, LD8 2SW\, United Kingdom
CATEGORIES:Music
ATTACH;FMTTYPE=image/jpeg:https://www.kingtontourist.info/wp-content/uploads/2016/09/new-Radnor-trio.jpg
GEO:52.2399841;-3.1547255
X-APPLE-STRUCTURED-LOCATION;VALUE=URI;X-ADDRESS=New Radnor Community Hall Hall Lane New Radnor Presteigne LD8 2SW United Kingdom;X-APPLE-RADIUS=500;X-TITLE=Hall Lane:geo:-3.1547255,52.2399841
END:VEVENT
BEGIN:VEVENT
DTSTART;TZID=Europe/London:20161008T193000
DTEND;TZID=Europe/London:20161008T193000
DTSTAMP:20260422T095722
CREATED:20161006T140120Z
LAST-MODIFIED:20161006T140120Z
UID:4564-1475955000-1475955000@www.kingtontourist.info
SUMMARY:Fashion Show
DESCRIPTION:COLOURS Fundraising Fashion Show\nLadies Fashion Show and Pop up Shop at Lady Hawkins Scool Hall\, Park View\, Kington HR5 3AR. Doors open 7pm for 7.30pm start. Tickets £5 Charity Raffle and Fabulous prizes to be won on the night! For tickets please contact Debbie Bradford on01544 350483 or The School Office on 01544 350203 Payment by cash\, cheques and cards.
URL:https://www.kingtontourist.info/event/fashion-show/
LOCATION:Lady Hawkins Community Leisure Centre\, Park View\, Kington\, Herefordshire\, HR5 3AR\, United Kingdom
CATEGORIES:Charity,Fashion
END:VEVENT
END:VCALENDAR