BEGIN:VCALENDAR
VERSION:2.0
PRODID:-//Kington Tourist Information Centre - ECPv5.4.0//NONSGML v1.0//EN
CALSCALE:GREGORIAN
METHOD:PUBLISH
X-WR-CALNAME:Kington Tourist Information Centre
X-ORIGINAL-URL:https://www.kingtontourist.info
X-WR-CALDESC:Events for Kington Tourist Information Centre
BEGIN:VTIMEZONE
TZID:Europe/London
BEGIN:DAYLIGHT
TZOFFSETFROM:+0000
TZOFFSETTO:+0100
TZNAME:BST
DTSTART:20170326T010000
END:DAYLIGHT
BEGIN:STANDARD
TZOFFSETFROM:+0100
TZOFFSETTO:+0000
TZNAME:GMT
DTSTART:20171029T010000
END:STANDARD
END:VTIMEZONE
BEGIN:VEVENT
DTSTART;VALUE=DATE:20170414
DTEND;VALUE=DATE:20170416
DTSTAMP:20260420T010134
CREATED:20170203T150527Z
LAST-MODIFIED:20170407T153210Z
UID:5561-1492128000-1492300799@www.kingtontourist.info
SUMMARY:Kington and Radnor Beer Festival
DESCRIPTION:The second Kington and Radnor cross border beer festival takes place this Easter on Good Friday and Saturday. Five pubs in Kington taking part include the Olde Tavern\, Oxford Arms\, Swan on the Square\, Royal Oak and The Lion. In Radnorshire there is the Radnorshire Brewery Bar in New Radnor and the Fforest Inn at Llanfiange-Nant-Melan. All are accessible on the 461 bus which runs from Hereford to Llandrindod Wells almost hourly throughout the day with the last bus back around 7pm. If purchasing a return ticket journey’s can be broken. For those wanting to experience the fabulous Radnorshire countryside there is a guided walk on Good Friday starting at the bus stop in New Radnor at 10.30am to the Fforest Inn. It’s a hilly 5 and a half mile walk via Water Break its Neck waterfall.  Entry is £5 (£4 for camra members). There will be live music in some of the pubs tbc.
URL:https://www.kingtontourist.info/event/kington-and-radnor-beer-festival/
LOCATION:Kington & Radnor Beer festival\, Kington and Radnorshire\, HR5\, United Kingdom
CATEGORIES:Beer Festival,Festivals,Food and Drink,Music,Walking
ATTACH;FMTTYPE=image/jpeg:https://www.kingtontourist.info/wp-content/uploads/2017/02/Poster-Black-2017-2.jpg
ORGANIZER;CN="Geoff%20Cooper":MAILTO:geoffandpatsy@kayoss.co.uk
GEO:52.2174397;-3.0811857
X-APPLE-STRUCTURED-LOCATION;VALUE=URI;X-ADDRESS=Kington & Radnor Beer festival Kington and Radnorshire HR5 United Kingdom;X-APPLE-RADIUS=500;X-TITLE=Kington and Radnorshire:geo:-3.0811857,52.2174397
END:VEVENT
BEGIN:VEVENT
DTSTART;TZID=Europe/London:20170415T110000
DTEND;TZID=Europe/London:20170415T110000
DTSTAMP:20260420T010134
CREATED:20170315T102432Z
LAST-MODIFIED:20170409T094820Z
UID:6147-1492254000-1492254000@www.kingtontourist.info
SUMMARY:KLEEN-Planters Unveiled
DESCRIPTION:Saturday 15 April\n11am official opening of the first community planters by the Edible Kington Team from KLEEN.  Unveiling of the planters in Mill Street Car Park and outside the Museum.
URL:https://www.kingtontourist.info/event/kleen-planters-unveiled/
LOCATION:Mill Street Car Park\, Kington\, HR5 3BH\, United Kingdom
CATEGORIES:Club,Community,Environment,Family,Gardening,Gardens,Health and Well Being,Nature,Wildlife
ATTACH;FMTTYPE=image/jpeg:https://www.kingtontourist.info/wp-content/uploads/2016/10/kleen-logo.jpg
ORGANIZER;CN="KLEEN":MAILTO:kingtonkleen@gmail.com
GEO:52.2028862;-3.0317095
END:VEVENT
BEGIN:VEVENT
DTSTART;TZID=Europe/London:20170415T200000
DTEND;TZID=Europe/London:20170415T200000
DTSTAMP:20260420T010134
CREATED:20170407T151651Z
LAST-MODIFIED:20170407T152130Z
UID:6187-1492286400-1492286400@www.kingtontourist.info
SUMMARY:Easter Vigil
DESCRIPTION:The First Eucharist of Easter
URL:https://www.kingtontourist.info/event/easter-vigil/
LOCATION:St Mary’s Church\, Kington\, Kington\, HR5\, United Kingdom
CATEGORIES:Church
ATTACH;FMTTYPE=image/jpeg:https://www.kingtontourist.info/wp-content/uploads/2016/06/StMarysP36.jpg
END:VEVENT
BEGIN:VEVENT
DTSTART;TZID=Europe/London:20170415T203000
DTEND;TZID=Europe/London:20170415T203000
DTSTAMP:20260420T010134
CREATED:20170409T093736Z
LAST-MODIFIED:20170409T131930Z
UID:6227-1492288200-1492288200@www.kingtontourist.info
SUMMARY:Sam Huffer
DESCRIPTION:Sam Huffer\nCover Guitarist and Vocalist\nSelf Taught Musician\nMusic at Ye Olde Tavern Kington 8pm\nPart of the Kington and Radnor Beer Festival
URL:https://www.kingtontourist.info/event/sam-huffer/
LOCATION:Ye Olde Tavern\, 22 Victoria Road\, Kington\, HR5 3BX\, United Kingdom
CATEGORIES:Beer Festival,Food and Drink,Live Music,Music
ATTACH;FMTTYPE=image/jpeg:https://www.kingtontourist.info/wp-content/uploads/2017/02/Poster-Black-2017-2.jpg
ORGANIZER;CN="Kington%20and%20Radnor%20Beer%20Festival":MAILTO:southbourne@kayoss.co.uk
GEO:52.2057525;-3.0226395
X-APPLE-STRUCTURED-LOCATION;VALUE=URI;X-ADDRESS=Ye Olde Tavern 22 Victoria Road Kington HR5 3BX United Kingdom;X-APPLE-RADIUS=500;X-TITLE=22 Victoria Road:geo:-3.0226395,52.2057525
END:VEVENT
END:VCALENDAR