BEGIN:VCALENDAR
VERSION:2.0
PRODID:-//Kington Tourist Information Centre - ECPv5.4.0//NONSGML v1.0//EN
CALSCALE:GREGORIAN
METHOD:PUBLISH
X-WR-CALNAME:Kington Tourist Information Centre
X-ORIGINAL-URL:https://www.kingtontourist.info
X-WR-CALDESC:Events for Kington Tourist Information Centre
BEGIN:VTIMEZONE
TZID:Europe/London
BEGIN:DAYLIGHT
TZOFFSETFROM:+0000
TZOFFSETTO:+0100
TZNAME:BST
DTSTART:20170326T010000
END:DAYLIGHT
BEGIN:STANDARD
TZOFFSETFROM:+0100
TZOFFSETTO:+0000
TZNAME:GMT
DTSTART:20171029T010000
END:STANDARD
END:VTIMEZONE
BEGIN:VEVENT
DTSTART;TZID=Europe/London:20170422T100000
DTEND;TZID=Europe/London:20170422T173000
DTSTAMP:20260420T010019
CREATED:20170421T161452Z
LAST-MODIFIED:20170421T161631Z
UID:6341-1492855200-1492882200@www.kingtontourist.info
SUMMARY:Wonderwool Wales
DESCRIPTION:A Festival of Welsh Wool & Natural Fibres\n\nJoin us at the Royal Welsh Showground in Builth Wells for the 11th Annual Wonderwool Wales Festival. It's your chance to enjoy a fantastic range of Welsh and British artisan products and an opportunity to meet the wonderful people who made them. A great family day out with hands-on woolschool workshops and events showcasing the best in Welsh and British wool and natural fibres. \nenquiries www.wonderwoolwales.co.uk 01938 820495 \nThe Royal Welsh Agricultural Society\nRoyal Welsh Showground\nLlanelwedd\nBuilth Wells\nPowys\nLD2 3SY \nTelephone: 01982 553683\nFax: 01982 553563\nE-mail: requests@rwas.co.uk
URL:https://www.kingtontourist.info/event/wonderwool-wales/2017-04-22/
LOCATION:Royal Welsh Showground\,  Llanelwedd\, Builth Wells   \, Powys\, LD2 3SY\, United Kingdom
CATEGORIES:Festivals,Market,Shows
GEO:52.1581441;-3.4076267
X-APPLE-STRUCTURED-LOCATION;VALUE=URI;X-ADDRESS=Royal Welsh Showground  Llanelwedd Builth Wells    Powys LD2 3SY United Kingdom;X-APPLE-RADIUS=500;X-TITLE=Llanelwedd:geo:-3.4076267,52.1581441
END:VEVENT
BEGIN:VEVENT
DTSTART;TZID=Europe/London:20170422T193000
DTEND;TZID=Europe/London:20170422T193000
DTSTAMP:20260420T010019
CREATED:20170118T151707Z
LAST-MODIFIED:20170118T153333Z
UID:5263-1492889400-1492889400@www.kingtontourist.info
SUMMARY:NATASHA GUTTMANN - ‘MY ANGLO-RUSSIAN FAMILY - 1840 - 1961’
DESCRIPTION:NATASHA GUTTMANN - ‘MY ANGLO-RUSSIAN FAMILY - 1840 - 1961’\n\nSaturday 22nd April at Huntington Village Hall at 7.30 pm.\n Natasha Guttmann\, who\, with her husband Werner\, have had a home in Huntington for 45 years\,  will tell the remarkable story of her British great-grandparents arrival in Russia\, in 1840.  She will tell of their success\, as they helped build the early structure of Russia\, as engineers and insurance brokers.\nShe will tell us of their comfortable lives\, and inter-marriage and integration into Russian life and culture.  But their comfortable style ended with the Bolshevik Revolution of 1917.   Her parents\, like scores of others\, were forced to flee from Russia with just the clothes they stood up in. She will tell the story of her parents’ struggles as they fled to England and how they had to adapt to a strange land with little money and little English.  She will talk of being brought up in two cultures and the advantage of knowing two languages.\nThe illustrated talk will feature music anecdotes and humour\, and the evening will be completed with wine and zakuski (Russian canapés) being served. This rare and remarkable talk\, will likely remain in our memories for a very long time and should not be missed.\n\nApply via www.huntingtonchurch.co.uk for tickets on line\, or telephone Fiona Shone on 01544 370391.
URL:https://www.kingtontourist.info/event/natasha-guttmann-my-anglo-russian-family-1840-1961/
LOCATION:Huntington Village Hall\, Herefordshire\, United Kingdom
CATEGORIES:History,Talk
ATTACH;FMTTYPE=image/jpeg:https://www.kingtontourist.info/wp-content/uploads/2017/01/Natasha-Guttmann.jpg
END:VEVENT
END:VCALENDAR