BEGIN:VCALENDAR
VERSION:2.0
PRODID:-//Kington Tourist Information Centre - ECPv5.4.0//NONSGML v1.0//EN
CALSCALE:GREGORIAN
METHOD:PUBLISH
X-WR-CALNAME:Kington Tourist Information Centre
X-ORIGINAL-URL:https://www.kingtontourist.info
X-WR-CALDESC:Events for Kington Tourist Information Centre
BEGIN:VTIMEZONE
TZID:Europe/London
BEGIN:DAYLIGHT
TZOFFSETFROM:+0000
TZOFFSETTO:+0100
TZNAME:BST
DTSTART:20170326T010000
END:DAYLIGHT
BEGIN:STANDARD
TZOFFSETFROM:+0100
TZOFFSETTO:+0000
TZNAME:GMT
DTSTART:20171029T010000
END:STANDARD
END:VTIMEZONE
BEGIN:VEVENT
DTSTART;TZID=Europe/London:20170917T100000
DTEND;TZID=Europe/London:20170917T170000
DTSTAMP:20260419T174914
CREATED:20170613T153835Z
LAST-MODIFIED:20170613T153835Z
UID:6863-1505642400-1505667600@www.kingtontourist.info
SUMMARY:Made in the Marches Gallery
DESCRIPTION:September and October –  As the days draw in\, and the leaves begin to fall\, we open ‘Journeyings’ a reflective two month exhibition with fresh work on the theme of adventures and explorations of the body\, mind and spirit\, captured in the mixed media of ceramics\, glass\, metal\,  paint\, prints\, textiles\, wood\, willow and stone.  The gallery will be part of h.Art from the 9th to the 17th September with 11 invited local artists and makers\, and four different practical demonstrations.  This will  be followed by Kington Walking Festival when the gallery will be offering a discount to participating walkers.   We offer an unusual selection of cards mostly designed by local artists\, small gifts\, and gift vouchers\,  as well as the opportunity to commission work from many of the participating artists and makers.  Please see our website Made in the Marches for more information on the above.  The gallery is open Tues to Sat\, 10am to 5 pm\, and  each day of h.Art.  Tel. 07531 820195
URL:https://www.kingtontourist.info/event/made-in-the-marches-gallery-3/
LOCATION:Made in the Marches Gallery\, 12 Church Street\, Kington\, Herefordshire\, HR5 3AZ\, United Kingdom
CATEGORIES:Art
ATTACH;FMTTYPE=image/png:https://www.kingtontourist.info/wp-content/uploads/2017/06/copy-1_1.png
GEO:52.2038193;-3.031936
X-APPLE-STRUCTURED-LOCATION;VALUE=URI;X-ADDRESS=Made in the Marches Gallery 12 Church Street Kington Herefordshire HR5 3AZ United Kingdom;X-APPLE-RADIUS=500;X-TITLE=12 Church Street:geo:-3.031936,52.2038193
END:VEVENT
BEGIN:VEVENT
DTSTART;TZID=Europe/London:20170917T140000
DTEND;TZID=Europe/London:20170917T170000
DTSTAMP:20260419T174914
CREATED:20170606T162145Z
LAST-MODIFIED:20170606T162222Z
UID:6617-1505656800-1505667600@www.kingtontourist.info
SUMMARY:Gardens Open
DESCRIPTION:The ancient village of Wigmore is known for its C12 castle\, home to the Mortimer family and now a 'romantic ruin'\, and its medieval church. The two gardens are both within 100yds of the parking area. Bury Court Farmhouse has a ¾-acre garden\, 'rescued' since 1997\, surrounding an 1840's stone farmhouse (not open). The courtyard contains a pond\, mixed borders\, fruit trees and shrubs\, with steps up to a terrace which leads to lawn and vegetable plots. The main garden (semi-walled) is on 2 levels with mixed borders greenhouse\, pond\, mini-orchard with daffodils in spring and wildlife area. The garden is designed for yr-round interest and colour. 2 Bury Court Park is a small garden with beautiful views. Herbaceous and evergreen shrub borders\, pond\, bog garden\, gravelled areas\, patio\, pergola with climbers\, raised beds with companion planting\, greenhouse\, arbour\, paved seating and sun areas\, lawns. Specimen trees\, fruit area and watering system. \nExhibition of paintings in pastel by Ivan Jones at 2 Bury Court Park. \nWigmore Gardens\, Wigmore\, Leominster\, Herefordshire\, HR6 9UP
URL:https://www.kingtontourist.info/event/gardens-open-5/
LOCATION:Wigmore Gardens\, Wigmore\, Leominster\, Herefordshire\, HR6 9UP\, United Kingdom
CATEGORIES:Charity,Gardens
ATTACH;FMTTYPE=image/jpeg:https://www.kingtontourist.info/wp-content/uploads/2016/08/ngs-logo-1.jpg
GEO:52.3158216;-2.853262
X-APPLE-STRUCTURED-LOCATION;VALUE=URI;X-ADDRESS=Wigmore Gardens Wigmore Leominster Herefordshire HR6 9UP United Kingdom;X-APPLE-RADIUS=500;X-TITLE=Wigmore:geo:-2.853262,52.3158216
END:VEVENT
END:VCALENDAR