BEGIN:VCALENDAR
VERSION:2.0
PRODID:-//Kington Tourist Information Centre - ECPv5.4.0//NONSGML v1.0//EN
CALSCALE:GREGORIAN
METHOD:PUBLISH
X-WR-CALNAME:Kington Tourist Information Centre
X-ORIGINAL-URL:https://www.kingtontourist.info
X-WR-CALDESC:Events for Kington Tourist Information Centre
BEGIN:VTIMEZONE
TZID:Europe/London
BEGIN:DAYLIGHT
TZOFFSETFROM:+0000
TZOFFSETTO:+0100
TZNAME:BST
DTSTART:20170326T010000
END:DAYLIGHT
BEGIN:STANDARD
TZOFFSETFROM:+0100
TZOFFSETTO:+0000
TZNAME:GMT
DTSTART:20171029T010000
END:STANDARD
END:VTIMEZONE
BEGIN:VEVENT
DTSTART;TZID=Europe/London:20171125T100000
DTEND;TZID=Europe/London:20171203T100000
DTSTAMP:20260419T144348
CREATED:20161115T225148Z
LAST-MODIFIED:20171109T050441Z
UID:5117-1511604000-1512295200@www.kingtontourist.info
SUMMARY:National Tree Week Begins
DESCRIPTION:National Tree Week\n\nEvents throughout kington during the course of the week see website and posters for details \nhttp://www.treecouncil.org.uk/Take-Part/Near-You
URL:https://www.kingtontourist.info/event/national-tree-week-begins/
LOCATION:Kington\, HR5\, Kington\, Herefordshire\, HR5\, United Kingdom
CATEGORIES:Environment,Nature
ATTACH;FMTTYPE=image/jpeg:https://www.kingtontourist.info/wp-content/uploads/2016/11/Tree-council-Logo-for-natio.jpg
GEO:52.203742;-3.029048
X-APPLE-STRUCTURED-LOCATION;VALUE=URI;X-ADDRESS=Kington HR5 Kington Herefordshire HR5 United Kingdom;X-APPLE-RADIUS=500;X-TITLE=HR5:geo:-3.029048,52.203742
END:VEVENT
END:VCALENDAR