BEGIN:VCALENDAR
VERSION:2.0
PRODID:-//Kington Tourist Information Centre - ECPv5.4.0//NONSGML v1.0//EN
CALSCALE:GREGORIAN
METHOD:PUBLISH
X-WR-CALNAME:Kington Tourist Information Centre
X-ORIGINAL-URL:https://www.kingtontourist.info
X-WR-CALDESC:Events for Kington Tourist Information Centre
BEGIN:VTIMEZONE
TZID:Europe/London
BEGIN:DAYLIGHT
TZOFFSETFROM:+0000
TZOFFSETTO:+0100
TZNAME:BST
DTSTART:20200329T010000
END:DAYLIGHT
BEGIN:STANDARD
TZOFFSETFROM:+0100
TZOFFSETTO:+0000
TZNAME:GMT
DTSTART:20201025T010000
END:STANDARD
END:VTIMEZONE
BEGIN:VEVENT
DTSTART;VALUE=DATE:20200228
DTEND;VALUE=DATE:20200316
DTSTAMP:20260423T122905
CREATED:20190307T163257Z
LAST-MODIFIED:20200225T182720Z
UID:10294-1582848000-1584316799@www.kingtontourist.info
SUMMARY:Borderlines-Film Festival
DESCRIPTION:At venues throughout the County
URL:https://www.kingtontourist.info/event/borderlines-film-festival/
CATEGORIES:Film
END:VEVENT
BEGIN:VEVENT
DTSTART;TZID=Europe/London:20200306T090000
DTEND;TZID=Europe/London:20200306T180000
DTSTAMP:20260423T122905
CREATED:20180306T212703Z
LAST-MODIFIED:20200305T153839Z
UID:7956-1583485200-1583517600@www.kingtontourist.info
SUMMARY:Swan Brewery
DESCRIPTION:Here’s something to look forward to at the end of this week: our “black” Tasting Day.  The beer in the spotlight is Black Swan\, to be joined by a selection of cask ale friends.  For this batch of our 4.5% roasted coffee stout\, we’ve sourced Guatemalan coffee from Method Roastery\, cold brewed it\, and added it to the fermentation vessel.  This dials up the inherent roasted\, coffee notes of the dark grains used for brewing. \n  \nThe rest of the blackness is from the Black Country.  We’ve The Rotundas: Nick and Ian\, who play traditional industrial and social songs from Birmingham and the Black Country\, joining us between half twelve and half two. \n  \nFood-wise we are showcasing the fine fare of the Black Country: cheese and onion cobs\, ham salad cobs\, salad cobs (and they are called cobs – how fitting!)\, bally filler (bread pudding) and pork scratchings.  Food is available all day. \n  \nWe run from 9am to 6pm.  It’ll be a brew day so there will be warmth indoors.  The big gazebo will be up outside and there will be tables and chairs. \nCygneture Ale\, 3.6% flavoursome chestnut and Black Swan\, 4.5% roasted coffee stout are our late February specials. \nBewick's Best is proper best bitter at a comfortable 4.5%\, with Challenger hops added at the beginning of the boil for crispness and Head Brewer’s favourite Goldings hops for spicy\, honey aromatic hop character - from w/c 2nd March. \nTasting Days:\n6th March\, 9am to 6pm Black Swan 4.5% + 4 other cask ales\, music from the The Rotundas\, traditional Back Country food.\n3rd April\, 9am to 8pm new Bald Eagle 3.5% + 4 other cask ales\, food from Ted’s Tacos and fund raising head shave at 4.30pm. \nSwan Brewery\, Unit 17\, Brunel Road\, Enterprise Park\, Leominster\, Herefordshire\, HR6 0LX.\nBrewery open every Friday 9-4.\nT: 01568 617709 M: 07377 728822
URL:https://www.kingtontourist.info/event/swan-brewery/
LOCATION:Swan brewery\, Enterprise Park (near Police Station)\, Leominster\, HR6 0LX\, United Kingdom
ATTACH;FMTTYPE=image/jpeg:https://www.kingtontourist.info/wp-content/uploads/2020/03/Swan-Logo-e1583422642381.jpg
END:VEVENT
BEGIN:VEVENT
DTSTART;TZID=Europe/London:20200306T200000
DTEND;TZID=Europe/London:20200306T200000
DTSTAMP:20260423T122905
CREATED:20160301T212956Z
LAST-MODIFIED:20200225T184128Z
UID:2654-1583524800-1583524800@www.kingtontourist.info
SUMMARY:Presteigne Screen-Film
DESCRIPTION:Photograph  (Borderlines) £5.50\nIndia/Ger/USA  2019  110 mins  15\n\n\nLove with a twist from the director of The Lunchbox – Mumbai street photographer Rafi (Nawazuddin Siddiqui) convinces a shy student Miloni (Sanya Malhotra) to pose for him\, a pic he uses to keep Dadi\, his pushy grandmother\, at bay when she demands he find a wife. A touching slow-burn relationship develops after Dadi insists on seeing more than a photograph\, and Rafi is forced to find the girl again and beg her to continue the deceit. A distinctly Indian resonance adds savour to developments as working-class Rafi and middle-class Miloni must also deal with the caste prejudices of friends and relatives\, a problem that widens and enriches the narrative
URL:https://www.kingtontourist.info/event/presteigne-screen-film/
LOCATION:Presteigne Assembly Rooms\, Broad Street\, Presteigne\, LD8 2AD\, United Kingdom
CATEGORIES:Film
ATTACH;FMTTYPE=image/jpeg:https://www.kingtontourist.info/wp-content/uploads/2018/03/presscreenlogo2.jpg
GEO:52.2741699;-3.0048279
X-APPLE-STRUCTURED-LOCATION;VALUE=URI;X-ADDRESS=Presteigne Assembly Rooms Broad Street Presteigne LD8 2AD United Kingdom;X-APPLE-RADIUS=500;X-TITLE=Broad Street:geo:-3.0048279,52.2741699
END:VEVENT
END:VCALENDAR