BEGIN:VCALENDAR
VERSION:2.0
PRODID:-//Kington Tourist Information Centre - ECPv5.4.0//NONSGML v1.0//EN
CALSCALE:GREGORIAN
METHOD:PUBLISH
X-WR-CALNAME:Kington Tourist Information Centre
X-ORIGINAL-URL:https://www.kingtontourist.info
X-WR-CALDESC:Events for Kington Tourist Information Centre
BEGIN:VTIMEZONE
TZID:Europe/London
BEGIN:DAYLIGHT
TZOFFSETFROM:+0000
TZOFFSETTO:+0100
TZNAME:BST
DTSTART:20200329T010000
END:DAYLIGHT
BEGIN:STANDARD
TZOFFSETFROM:+0100
TZOFFSETTO:+0000
TZNAME:GMT
DTSTART:20201025T010000
END:STANDARD
END:VTIMEZONE
BEGIN:VEVENT
DTSTART;TZID=Europe/London:20200322T143000
DTEND;TZID=Europe/London:20200322T153000
DTSTAMP:20260419T145114
CREATED:20200226T222454Z
LAST-MODIFIED:20200318T181619Z
UID:12287-1584887400-1584891000@www.kingtontourist.info
SUMMARY:Talk-Presteigne - POSTPONED
DESCRIPTION:Sunday 22 March\nFrom Necessity to Luxury \nMark Lucas\, Curator of the Welsh National Wool Museum\, looks at the changing history of the wool industry in Wales. It was once a widespread industry with 900 mills\, of which only a few working mills remain. Mark's illustrated talk is accompanied by a selection of woollen fabrics and historical artifacts.\nPresteigne Assembly Rooms 2.30 - 3.30pm\n£5 The Workhouse (cash only) & online at wegottickets.com
URL:https://www.kingtontourist.info/event/talk-presteigne-2/
LOCATION:Presteigne Assembly Rooms\, Broad Street\, Presteigne\, LD8 2AD\, United Kingdom
CATEGORIES:Talk
GEO:52.2741699;-3.0048279
X-APPLE-STRUCTURED-LOCATION;VALUE=URI;X-ADDRESS=Presteigne Assembly Rooms Broad Street Presteigne LD8 2AD United Kingdom;X-APPLE-RADIUS=500;X-TITLE=Broad Street:geo:-3.0048279,52.2741699
END:VEVENT
END:VCALENDAR