BEGIN:VCALENDAR
VERSION:2.0
PRODID:-//Kington Tourist Information Centre - ECPv5.4.0//NONSGML v1.0//EN
CALSCALE:GREGORIAN
METHOD:PUBLISH
X-WR-CALNAME:Kington Tourist Information Centre
X-ORIGINAL-URL:https://www.kingtontourist.info
X-WR-CALDESC:Events for Kington Tourist Information Centre
BEGIN:VTIMEZONE
TZID:Europe/London
BEGIN:DAYLIGHT
TZOFFSETFROM:+0000
TZOFFSETTO:+0100
TZNAME:BST
DTSTART:20220327T010000
END:DAYLIGHT
BEGIN:STANDARD
TZOFFSETFROM:+0100
TZOFFSETTO:+0000
TZNAME:GMT
DTSTART:20221030T010000
END:STANDARD
END:VTIMEZONE
BEGIN:VEVENT
DTSTART;TZID=Europe/London:20220528T100000
DTEND;TZID=Europe/London:20220612T170000
DTSTAMP:20260419T153131
CREATED:20220529T141117Z
LAST-MODIFIED:20220529T141615Z
UID:13015-1653732000-1655053200@www.kingtontourist.info
SUMMARY:A Platinum Pageant
DESCRIPTION:St Mary's Church presents A Platinum Pageant
URL:https://www.kingtontourist.info/event/a-platinum-pageant/
LOCATION:St Mary’s Church\, New Radnor\, LD8 2TE
CATEGORIES:Church
END:VEVENT
BEGIN:VEVENT
DTSTART;TZID=Europe/London:20220605T110000
DTEND;TZID=Europe/London:20220605T110000
DTSTAMP:20260419T153132
CREATED:20220529T143519Z
LAST-MODIFIED:20220529T143519Z
UID:13030-1654426800-1654426800@www.kingtontourist.info
SUMMARY:Church Service
DESCRIPTION:St Mary's Church
URL:https://www.kingtontourist.info/event/church-service/
LOCATION:St Mary’s Church\, New Radnor\, LD8 2TE
END:VEVENT
BEGIN:VEVENT
DTSTART;TZID=Europe/London:20220605T130000
DTEND;TZID=Europe/London:20220605T160000
DTSTAMP:20260419T153132
CREATED:20220529T143706Z
LAST-MODIFIED:20220529T143706Z
UID:13032-1654434000-1654444800@www.kingtontourist.info
SUMMARY:Picnic
DESCRIPTION:Bring your own picnic to the Recreation Ground \nBouncy Castle and Bar
URL:https://www.kingtontourist.info/event/picnic/
LOCATION:Kington Recreation Ground\, Park Avenue\, Kington\, HR5 3AL\, United Kingdom
GEO:52.2019833;-3.0358046
X-APPLE-STRUCTURED-LOCATION;VALUE=URI;X-ADDRESS=Kington Recreation Ground Park Avenue Kington HR5 3AL United Kingdom;X-APPLE-RADIUS=500;X-TITLE=Park Avenue:geo:-3.0358046,52.2019833
END:VEVENT
END:VCALENDAR