BEGIN:VCALENDAR
VERSION:2.0
PRODID:-//Kington Tourist Information Centre - ECPv5.4.0//NONSGML v1.0//EN
CALSCALE:GREGORIAN
METHOD:PUBLISH
X-WR-CALNAME:Kington Tourist Information Centre
X-ORIGINAL-URL:https://www.kingtontourist.info
X-WR-CALDESC:Events for Kington Tourist Information Centre
BEGIN:VTIMEZONE
TZID:Europe/London
BEGIN:DAYLIGHT
TZOFFSETFROM:+0000
TZOFFSETTO:+0100
TZNAME:BST
DTSTART:20220327T010000
END:DAYLIGHT
BEGIN:STANDARD
TZOFFSETFROM:+0100
TZOFFSETTO:+0000
TZNAME:GMT
DTSTART:20221030T010000
END:STANDARD
END:VTIMEZONE
BEGIN:VEVENT
DTSTART;TZID=Europe/London:20220626T103000
DTEND;TZID=Europe/London:20220626T163000
DTSTAMP:20260419T153609
CREATED:20220624T155041Z
LAST-MODIFIED:20220624T155041Z
UID:13041-1656239400-1656261000@www.kingtontourist.info
SUMMARY:New Radnor Gardens
DESCRIPTION:The Conservation Village of New Radnor\, formally the county town of Radnorshire and strategic site of a Motte and Bailey Castle\, whose mound now dominates the village\, lies in the beautiful Radnor Valley\, cradled between the two high hills of The Smatcher and The Wimble. New for 2022\, a new garden a rather steep ¼m walk away but giving magnificent views and a wonderful bonsai collection. \nhttps://findagarden.ngs.org.uk/garden/42450/new-radnor-gardens
URL:https://www.kingtontourist.info/event/new-radnor-gardens/
LOCATION:New Radnor\, Presteigne\, LD8 2SS
ATTACH;FMTTYPE=image/png:https://www.kingtontourist.info/wp-content/uploads/2019/04/logo.png
GEO:51.498159;-0.0151775
END:VEVENT
END:VCALENDAR