BEGIN:VCALENDAR
VERSION:2.0
PRODID:-//Kington Tourist Information Centre - ECPv5.4.0//NONSGML v1.0//EN
CALSCALE:GREGORIAN
METHOD:PUBLISH
X-WR-CALNAME:Kington Tourist Information Centre
X-ORIGINAL-URL:https://www.kingtontourist.info
X-WR-CALDESC:Events for Kington Tourist Information Centre
BEGIN:VTIMEZONE
TZID:Europe/London
BEGIN:DAYLIGHT
TZOFFSETFROM:+0000
TZOFFSETTO:+0100
TZNAME:BST
DTSTART:20220327T010000
END:DAYLIGHT
BEGIN:STANDARD
TZOFFSETFROM:+0100
TZOFFSETTO:+0000
TZNAME:GMT
DTSTART:20221030T010000
END:STANDARD
END:VTIMEZONE
BEGIN:VEVENT
DTSTART;TZID=Europe/London:20220716T150000
DTEND;TZID=Europe/London:20220716T170000
DTSTAMP:20260419T171406
CREATED:20190403T161044Z
LAST-MODIFIED:20220708T151025Z
UID:8928-1657983600-1657990800@www.kingtontourist.info
SUMMARY:Huntington Fete
DESCRIPTION:Reopening of Historic Huntington Fete \nSaturday 16th July 2022 \n  \n  \nHuntington village is delighted to announce the return of its popular summer fete.  One of the oldest in the county\, the Fete is being held on Saturday 16th July in the beautiful grounds of Huntington Court\, home to Fiona and Will Shone. \n  \nThe Fete\, popular with locals and visitors retains its traditional style\, with time-honoured favourites that include homemade cakes\, produce stalls\, old-fashioned garden party games\, competitions\, and delicious homemade teas. \n  \nOpening from 3 pm – 5 pm and admission and parking are free. \n  \nFor further information please contact Bev Perrin on 07855 300175 / bevperrin@icloud.com
URL:https://www.kingtontourist.info/event/huntington-fete-2/
LOCATION:Huntington Court\, Huntington\, Kington\, Herefordshire\, HR5 3PZ\, United Kingdom
ATTACH;FMTTYPE=image/jpeg:https://www.kingtontourist.info/wp-content/uploads/2019/04/General-Fete-Pic-with-House.jpg
ORGANIZER;CN="Bev%20Perrin":MAILTO:bevperrin@icloud.com
GEO:52.1719425;-3.092336
X-APPLE-STRUCTURED-LOCATION;VALUE=URI;X-ADDRESS=Huntington Court Huntington Kington Herefordshire HR5 3PZ United Kingdom;X-APPLE-RADIUS=500;X-TITLE=Huntington:geo:-3.092336,52.1719425
END:VEVENT
END:VCALENDAR