BEGIN:VCALENDAR
VERSION:2.0
PRODID:-//Kington Tourist Information Centre - ECPv5.4.0//NONSGML v1.0//EN
CALSCALE:GREGORIAN
METHOD:PUBLISH
X-WR-CALNAME:Kington Tourist Information Centre
X-ORIGINAL-URL:https://www.kingtontourist.info
X-WR-CALDESC:Events for Kington Tourist Information Centre
BEGIN:VTIMEZONE
TZID:Europe/London
BEGIN:DAYLIGHT
TZOFFSETFROM:+0000
TZOFFSETTO:+0100
TZNAME:BST
DTSTART:20230326T010000
END:DAYLIGHT
BEGIN:STANDARD
TZOFFSETFROM:+0100
TZOFFSETTO:+0000
TZNAME:GMT
DTSTART:20231029T010000
END:STANDARD
END:VTIMEZONE
BEGIN:VEVENT
DTSTART;TZID=Europe/London:20230421T100000
DTEND;TZID=Europe/London:20230423T190000
DTSTAMP:20260423T082910
CREATED:20220319T105747Z
LAST-MODIFIED:20230329T141101Z
UID:12971-1682071200-1682276400@www.kingtontourist.info
SUMMARY:Kington Walks
DESCRIPTION:Welcome to our Spring Weekend 2023\n\n 
URL:https://www.kingtontourist.info/event/kington-walks-5/
LOCATION:Kington\, HR5
CATEGORIES:Animals,Architechture,Art,children,Church,Community,Environment,Family,Festivals,Food and Drink,Gardens,Health and Well Being,Hergest ridge,Historic House,History,Market,Nature,Quiz,Tour,Tourism,Walking,Wildlife
ATTACH;FMTTYPE=image/jpeg:https://www.kingtontourist.info/wp-content/uploads/2023/03/kw_22_a_150x48-for-web-e1678286175442.jpg
GEO:52.1706025;-3.146605
END:VEVENT
BEGIN:VEVENT
DTSTART;TZID=Europe/London:20230422T190000
DTEND;TZID=Europe/London:20230422T190000
DTSTAMP:20260423T082910
CREATED:20230406T162734Z
LAST-MODIFIED:20230410T113048Z
UID:14108-1682190000-1682190000@www.kingtontourist.info
SUMMARY:Kington Walks Quiz Night
DESCRIPTION:Arrive 7 pm for 7.30pm start \nTeams of 4 £3 per person \nBook online through Kington Walks website or Kington Tourist Information Centre in Church Street \n 
URL:https://www.kingtontourist.info/event/kington-walks-quiz-night/
LOCATION:The Burton Hotel
ATTACH;FMTTYPE=image/jpeg:https://www.kingtontourist.info/wp-content/uploads/2023/03/kw_22_a_150x48-for-web-e1678286175442.jpg
GEO:52.203142;-3.0312472
END:VEVENT
BEGIN:VEVENT
DTSTART;TZID=Europe/London:20230422T193000
DTEND;TZID=Europe/London:20230422T193000
DTSTAMP:20260423T082910
CREATED:20230418T093922Z
LAST-MODIFIED:20230418T093922Z
UID:14145-1682191800-1682191800@www.kingtontourist.info
SUMMARY:Ludlow Concert Band
DESCRIPTION:An Evening Concert at St Mary's Church Kington. \nMusic from musical theatre\, film\, Latin\, pop and classical \nTickets and interval refreshments are free of charge and can be collocted from Border Bean Cafe or reserved by email at office@kingtonparishes.org
URL:https://www.kingtontourist.info/event/ludlow-concert-band/
LOCATION:St Mary’s Church\, New Radnor\, LD8 2TE
END:VEVENT
END:VCALENDAR