BEGIN:VCALENDAR
VERSION:2.0
PRODID:-//Kington Tourist Information Centre - ECPv5.4.0//NONSGML v1.0//EN
CALSCALE:GREGORIAN
METHOD:PUBLISH
X-WR-CALNAME:Kington Tourist Information Centre
X-ORIGINAL-URL:https://www.kingtontourist.info
X-WR-CALDESC:Events for Kington Tourist Information Centre
BEGIN:VTIMEZONE
TZID:Europe/London
BEGIN:DAYLIGHT
TZOFFSETFROM:+0000
TZOFFSETTO:+0100
TZNAME:BST
DTSTART:20230326T010000
END:DAYLIGHT
BEGIN:STANDARD
TZOFFSETFROM:+0100
TZOFFSETTO:+0000
TZNAME:GMT
DTSTART:20231029T010000
END:STANDARD
END:VTIMEZONE
BEGIN:VEVENT
DTSTART;TZID=Europe/London:20230427T193000
DTEND;TZID=Europe/London:20230427T193000
DTSTAMP:20260423T005803
CREATED:20230326T143303Z
LAST-MODIFIED:20230326T143440Z
UID:14056-1682623800-1682623800@www.kingtontourist.info
SUMMARY:Flicks in the Sticks - Almeley
DESCRIPTION:The Lost King \nThe Story of how Richard lll was found in a Leicester car park
URL:https://www.kingtontourist.info/event/flicks-in-the-sticks-almeley-5/
LOCATION:Almeley Village Hall\, Nr Kington\, HR3 6NE\, United Kingdom
GEO:52.158802;-2.9749349
X-APPLE-STRUCTURED-LOCATION;VALUE=URI;X-ADDRESS=Almeley Village Hall Nr Kington HR3 6NE United Kingdom;X-APPLE-RADIUS=500;X-TITLE=Nr Kington:geo:-2.9749349,52.158802
END:VEVENT
BEGIN:VEVENT
DTSTART;TZID=Europe/London:20230427T193000
DTEND;TZID=Europe/London:20230427T193000
DTSTAMP:20260423T005803
CREATED:20230414T124359Z
LAST-MODIFIED:20230414T133005Z
UID:14125-1682623800-1682623800@www.kingtontourist.info
SUMMARY:Talk on The Herefordshire Hoard
DESCRIPTION:Public talk on The Herefordshire Hoard by Tim Hovard\, County Archaeological Projects Manager \n 
URL:https://www.kingtontourist.info/event/talk-on-the-herefordshire-hoard/
LOCATION:The Burton Hotel
GEO:52.203142;-3.0312472
END:VEVENT
END:VCALENDAR