BEGIN:VCALENDAR
VERSION:2.0
PRODID:-//Kington Tourist Information Centre - ECPv5.4.0//NONSGML v1.0//EN
CALSCALE:GREGORIAN
METHOD:PUBLISH
X-WR-CALNAME:Kington Tourist Information Centre
X-ORIGINAL-URL:https://www.kingtontourist.info
X-WR-CALDESC:Events for Kington Tourist Information Centre
BEGIN:VTIMEZONE
TZID:Europe/London
BEGIN:DAYLIGHT
TZOFFSETFROM:+0000
TZOFFSETTO:+0100
TZNAME:BST
DTSTART:20230326T010000
END:DAYLIGHT
BEGIN:STANDARD
TZOFFSETFROM:+0100
TZOFFSETTO:+0000
TZNAME:GMT
DTSTART:20231029T010000
END:STANDARD
END:VTIMEZONE
BEGIN:VEVENT
DTSTART;TZID=Europe/London:20230507T110000
DTEND;TZID=Europe/London:20230507T110000
DTSTAMP:20260419T172548
CREATED:20230427T170303Z
LAST-MODIFIED:20230502T214225Z
UID:14201-1683457200-1683457200@www.kingtontourist.info
SUMMARY:Coronation Service
DESCRIPTION:A Special Commemorative Service  to celebrate the coronation of King Charles 111 on Sunday\, 7th May\, 2023 at 11am at St Mary’s Church\, Kington. \nYou are invite to the celebration service of the Coronation of King Charles 111 at St. Mary’s Church\, Kington. \nFollowed by a "bring your own picnic" to the recreation ground Kington from 1-4pm \nChildren's games organised by Kington Youth Club\, bouncy castle\, fun quiz and cream scones. \nThe Cricket Club bar will be open plus a fun cricket match weather permitting
URL:https://www.kingtontourist.info/event/coronation-service/
LOCATION:St Mary’s Church\, Kington\, Kington\, HR5\, United Kingdom
CATEGORIES:Church,Community
ATTACH;FMTTYPE=image/jpeg:https://www.kingtontourist.info/wp-content/uploads/2023/04/Coronation-service-postercr.jpg
END:VEVENT
BEGIN:VEVENT
DTSTART;TZID=Europe/London:20230507T113000
DTEND;TZID=Europe/London:20230507T123000
DTSTAMP:20260419T172548
CREATED:20230502T182159Z
LAST-MODIFIED:20230502T182159Z
UID:14218-1683459000-1683462600@www.kingtontourist.info
SUMMARY:Creating a Buzz about the Honeybees
DESCRIPTION:Children's author \, speaker and beekeeper talks about the honeybee for about 1 hour
URL:https://www.kingtontourist.info/event/creating-a-buzz-about-the-honeybees/
LOCATION:Hergest Croft Gardens\, Ridgebourne Road\, Kington\, Herefordshire\, HR5 3EG\, United Kingdom
CATEGORIES:children,Community,Family,Gardening,Gardens,Nature,Talk
ATTACH;FMTTYPE=image/jpeg:https://www.kingtontourist.info/wp-content/uploads/2023/05/HERGEST-CROFT-POSTER-T.O-cr.jpg
GEO:52.2041688;-3.0446955
X-APPLE-STRUCTURED-LOCATION;VALUE=URI;X-ADDRESS=Hergest Croft Gardens Ridgebourne Road Kington Herefordshire HR5 3EG United Kingdom;X-APPLE-RADIUS=500;X-TITLE=Ridgebourne Road:geo:-3.0446955,52.2041688
END:VEVENT
BEGIN:VEVENT
DTSTART;TZID=Europe/London:20230507T140000
DTEND;TZID=Europe/London:20230507T150000
DTSTAMP:20260419T172548
CREATED:20230323T144334Z
LAST-MODIFIED:20230323T144537Z
UID:13929-1683468000-1683471600@www.kingtontourist.info
SUMMARY:Artist in Residence - Hergest Croft Gardens
DESCRIPTION:On Sunday 7 May 2023 between 2 to 3pm \nArtist in Residence Kathryn Moore \nKathryn will be providing an illustrated talk on her techniques and working practices\, including a short-guided walk around the gardens followed by a question-and-answer session. – limited to 12 people – non season ticket holders will have to pay the £8 entrance to the gardens.
URL:https://www.kingtontourist.info/event/artist-in-residence-hergest-croft-gardens/
LOCATION:Hergest Croft Gardens\, Ridgebourne Road\, Kington\, Herefordshire\, HR5 3EG\, United Kingdom
CATEGORIES:Art,Gardens
ATTACH;FMTTYPE=image/png:https://www.kingtontourist.info/wp-content/uploads/2017/03/HC_Logo.png
GEO:52.2041688;-3.0446955
X-APPLE-STRUCTURED-LOCATION;VALUE=URI;X-ADDRESS=Hergest Croft Gardens Ridgebourne Road Kington Herefordshire HR5 3EG United Kingdom;X-APPLE-RADIUS=500;X-TITLE=Ridgebourne Road:geo:-3.0446955,52.2041688
END:VEVENT
END:VCALENDAR