BEGIN:VCALENDAR
VERSION:2.0
PRODID:-//Kington Tourist Information Centre - ECPv5.4.0//NONSGML v1.0//EN
CALSCALE:GREGORIAN
METHOD:PUBLISH
X-WR-CALNAME:Kington Tourist Information Centre
X-ORIGINAL-URL:https://www.kingtontourist.info
X-WR-CALDESC:Events for Kington Tourist Information Centre
BEGIN:VTIMEZONE
TZID:Europe/London
BEGIN:DAYLIGHT
TZOFFSETFROM:+0000
TZOFFSETTO:+0100
TZNAME:BST
DTSTART:20230326T010000
END:DAYLIGHT
BEGIN:STANDARD
TZOFFSETFROM:+0100
TZOFFSETTO:+0000
TZNAME:GMT
DTSTART:20231029T010000
END:STANDARD
END:VTIMEZONE
BEGIN:VEVENT
DTSTART;TZID=Europe/London:20230603T100000
DTEND;TZID=Europe/London:20230603T140000
DTSTAMP:20260424T095856
CREATED:20230426T134919Z
LAST-MODIFIED:20230426T135017Z
UID:14183-1685786400-1685800800@www.kingtontourist.info
SUMMARY:Learning  Workshops for young people - Cultivate
DESCRIPTION:Learning | Workshops for young people\nCultivate\nCultivate is our creative programme for 15 - 25 year olds. \nForthcoming Cultivate dates\nSaturday 13 May\, 10am - 2pm - Sidney Nolan Trust\nSaturday 3 June\, 10am - 2pm - Berrington Hall\nSaturday 8 July\, 10am - 2pm - Berrington Hall\nSaturday 19 August\, 10am - 2pm - Berrington Hall
URL:https://www.kingtontourist.info/event/learning-workshops-for-young-people-cultivate/2023-06-03/
LOCATION:Berrington Hall\, Near Leominster\, HR6 0DW
END:VEVENT
BEGIN:VEVENT
DTSTART;TZID=Europe/London:20230603T100000
DTEND;TZID=Europe/London:20230603T160000
DTSTAMP:20260424T095856
CREATED:20230604T135951Z
LAST-MODIFIED:20230604T140153Z
UID:14313-1685786400-1685808000@www.kingtontourist.info
SUMMARY:Weobley - Big Dig
DESCRIPTION:3rd - 11th June \nWeobley Museum open:\n3rd - 4th June 11am - 4pm\n5th - 9th June 11am - 1pm and 2-4pm\n10th - 11th June  11am-4pm \nVillage Hall Exhibition & Visitor Centre\n3rd-4th June 11am -4pm\n5th-9th June 11am-1pm and 2pm-4pm\n10th-11th June - 11am-1p. and 2pm-4pm \nArchaeological Pits\n3rd-4th June 10am-4pm may vary\n5th-9th June 10am-4pm may vary\n10th-11th June 10am-4pm may vary \nSee details on leaflets \n  \n 
URL:https://www.kingtontourist.info/event/weobley-big-dig/2023-06-03/
LOCATION:Weobley\, Herefordshire
END:VEVENT
END:VCALENDAR