BEGIN:VCALENDAR
VERSION:2.0
PRODID:-//Kington Tourist Information Centre - ECPv5.4.0//NONSGML v1.0//EN
CALSCALE:GREGORIAN
METHOD:PUBLISH
X-WR-CALNAME:Kington Tourist Information Centre
X-ORIGINAL-URL:https://www.kingtontourist.info
X-WR-CALDESC:Events for Kington Tourist Information Centre
BEGIN:VTIMEZONE
TZID:Europe/London
BEGIN:DAYLIGHT
TZOFFSETFROM:+0000
TZOFFSETTO:+0100
TZNAME:BST
DTSTART:20230326T010000
END:DAYLIGHT
BEGIN:STANDARD
TZOFFSETFROM:+0100
TZOFFSETTO:+0000
TZNAME:GMT
DTSTART:20231029T010000
END:STANDARD
END:VTIMEZONE
BEGIN:VEVENT
DTSTART;TZID=Europe/London:20230609T180000
DTEND;TZID=Europe/London:20230609T210000
DTSTAMP:20260423T014142
CREATED:20230609T120625Z
LAST-MODIFIED:20230811T125739Z
UID:14338-1686333600-1686344400@www.kingtontourist.info
SUMMARY:Pop Up Pints
DESCRIPTION:Our regular Bar & Cafe slots are also open as usual this weekend: \nBAR\nFri 5-10pm\nSat 6-10pm \nCAFE\nSat 12-6pm \nLook forward to seeing you there... \nOpen Arms Team \nCourtyard \nThe Oxford Arms
URL:https://www.kingtontourist.info/event/14338/2023-06-09/
LOCATION:The Oxford Arms\, Duke Street\, Kington\, Herefordshire\, HR5 3DR\, United Kingdom
ATTACH;FMTTYPE=image/jpeg:https://www.kingtontourist.info/wp-content/uploads/2023/07/OAK-Yard.jpg
END:VEVENT
END:VCALENDAR