BEGIN:VCALENDAR
VERSION:2.0
PRODID:-//Kington Tourist Information Centre - ECPv5.4.0//NONSGML v1.0//EN
CALSCALE:GREGORIAN
METHOD:PUBLISH
X-WR-CALNAME:Kington Tourist Information Centre
X-ORIGINAL-URL:https://www.kingtontourist.info
X-WR-CALDESC:Events for Kington Tourist Information Centre
BEGIN:VTIMEZONE
TZID:Europe/London
BEGIN:DAYLIGHT
TZOFFSETFROM:+0000
TZOFFSETTO:+0100
TZNAME:BST
DTSTART:20230326T010000
END:DAYLIGHT
BEGIN:STANDARD
TZOFFSETFROM:+0100
TZOFFSETTO:+0000
TZNAME:GMT
DTSTART:20231029T010000
END:STANDARD
END:VTIMEZONE
BEGIN:VEVENT
DTSTART;TZID=Europe/London:20230701T103000
DTEND;TZID=Europe/London:20230701T160000
DTSTAMP:20260424T122611
CREATED:20230604T172121Z
LAST-MODIFIED:20230604T172121Z
UID:14324-1688207400-1688227200@www.kingtontourist.info
SUMMARY:Lace and Textile Sale
DESCRIPTION:Sale of crafting materials and equipment. \nAllsorts \nRefreshments available \nSupporting MacMillan and St Michael's Hospice
URL:https://www.kingtontourist.info/event/lace-and-textile-sale/
LOCATION:Brilley and Michaelchurch Village Hall\, Brilley\, HR3 6JG\, United Kingdom
GEO:52.1409756;-3.0779444
X-APPLE-STRUCTURED-LOCATION;VALUE=URI;X-ADDRESS=Brilley and Michaelchurch Village Hall Brilley HR3 6JG United Kingdom;X-APPLE-RADIUS=500;X-TITLE=Brilley:geo:-3.0779444,52.1409756
END:VEVENT
BEGIN:VEVENT
DTSTART;TZID=Europe/London:20230701T120000
DTEND;TZID=Europe/London:20230701T180000
DTSTAMP:20260424T122611
CREATED:20230611T164211Z
LAST-MODIFIED:20230611T164549Z
UID:14347-1688212800-1688234400@www.kingtontourist.info
SUMMARY:Sidney Nolan Community Day
DESCRIPTION:  \nAnnual Community Day\nSaturday 1 July\, 12.00noon-6pm\, The Rodd \nOur popular community day returns for a third year. The Free event includes live music\, storytelling\, arts & craft activities\, and entry to our exhibitions. Enjoy locally sourced food and drink in our beautiful gardens and space to gather with family and friends.
URL:https://www.kingtontourist.info/event/sidney-nolan-community-day/
LOCATION:Sidney Nolan Trust\, The Rodd\, Presteigne\, LD8 2LL\, United Kingdom
ATTACH;FMTTYPE=image/jpeg:https://www.kingtontourist.info/wp-content/uploads/2023/06/dsc02606Com-day-rodd-croppe.jpg
GEO:52.257855;-2.993989
X-APPLE-STRUCTURED-LOCATION;VALUE=URI;X-ADDRESS=Sidney Nolan Trust The Rodd Presteigne LD8 2LL United Kingdom;X-APPLE-RADIUS=500;X-TITLE=The Rodd:geo:-2.993989,52.257855
END:VEVENT
BEGIN:VEVENT
DTSTART;TZID=Europe/London:20230701T193000
DTEND;TZID=Europe/London:20230701T193000
DTSTAMP:20260424T122611
CREATED:20230604T133303Z
LAST-MODIFIED:20230604T133519Z
UID:14296-1688239800-1688239800@www.kingtontourist.info
SUMMARY:Midsummer Melodies
DESCRIPTION:A fundraising concert of popular songs from Shows and Films in aid of the organ restoration fund.
URL:https://www.kingtontourist.info/event/midsummer-melodies/
LOCATION:St Mary’s Church\, Kington\, Kington\, HR5\, United Kingdom
ATTACH;FMTTYPE=image/jpeg:https://www.kingtontourist.info/wp-content/uploads/2023/06/imageMID-summer-melodies-KA.jpg
END:VEVENT
END:VCALENDAR