BEGIN:VCALENDAR
VERSION:2.0
PRODID:-//Kington Tourist Information Centre - ECPv5.4.0//NONSGML v1.0//EN
CALSCALE:GREGORIAN
METHOD:PUBLISH
X-WR-CALNAME:Kington Tourist Information Centre
X-ORIGINAL-URL:https://www.kingtontourist.info
X-WR-CALDESC:Events for Kington Tourist Information Centre
BEGIN:VTIMEZONE
TZID:Europe/London
BEGIN:DAYLIGHT
TZOFFSETFROM:+0000
TZOFFSETTO:+0100
TZNAME:BST
DTSTART:20230326T010000
END:DAYLIGHT
BEGIN:STANDARD
TZOFFSETFROM:+0100
TZOFFSETTO:+0000
TZNAME:GMT
DTSTART:20231029T010000
END:STANDARD
END:VTIMEZONE
BEGIN:VEVENT
DTSTART;TZID=Europe/London:20230908T170000
DTEND;TZID=Europe/London:20230908T220000
DTSTAMP:20260421T014219
CREATED:20230906T112637Z
LAST-MODIFIED:20230906T113055Z
UID:16141-1694192400-1694210400@www.kingtontourist.info
SUMMARY:Pop up Pints - Oxford Arms - Kington
DESCRIPTION:Every Friday and Saturday
URL:https://www.kingtontourist.info/event/pop-up-pints-oxford-arms-kington/2023-09-08/
LOCATION:The Oxford Arms\, Duke Street\, Kington\, Herefordshire\, HR5 3DR\, United Kingdom
ATTACH;FMTTYPE=image/jpeg:https://www.kingtontourist.info/wp-content/uploads/2023/08/opnarms-kington-logocropped.jpg
END:VEVENT
BEGIN:VEVENT
DTSTART;TZID=Europe/London:20230908T180000
DTEND;TZID=Europe/London:20230908T220000
DTSTAMP:20260421T014219
CREATED:20230906T112225Z
LAST-MODIFIED:20230906T112225Z
UID:16138-1694196000-1694210400@www.kingtontourist.info
SUMMARY:September Events at The Oxford Arms
DESCRIPTION:
URL:https://www.kingtontourist.info/event/september-events-at-the-oxford-arms/2023-09-08/
LOCATION:Herefordshire
ATTACH;FMTTYPE=image/jpeg:https://www.kingtontourist.info/wp-content/uploads/2023/08/opnarms-kington-logocropped.jpg
END:VEVENT
END:VCALENDAR