BEGIN:VCALENDAR
VERSION:2.0
PRODID:-//Kington Tourist Information Centre - ECPv5.4.0//NONSGML v1.0//EN
CALSCALE:GREGORIAN
METHOD:PUBLISH
X-WR-CALNAME:Kington Tourist Information Centre
X-ORIGINAL-URL:https://www.kingtontourist.info
X-WR-CALDESC:Events for Kington Tourist Information Centre
BEGIN:VTIMEZONE
TZID:Europe/London
BEGIN:DAYLIGHT
TZOFFSETFROM:+0000
TZOFFSETTO:+0100
TZNAME:BST
DTSTART:20230326T010000
END:DAYLIGHT
BEGIN:STANDARD
TZOFFSETFROM:+0100
TZOFFSETTO:+0000
TZNAME:GMT
DTSTART:20231029T010000
END:STANDARD
END:VTIMEZONE
BEGIN:VEVENT
DTSTART;TZID=Europe/London:20230929T100000
DTEND;TZID=Europe/London:20230929T100000
DTSTAMP:20260425T164744
CREATED:20230817T120804Z
LAST-MODIFIED:20230817T120804Z
UID:16109-1695981600-1695981600@www.kingtontourist.info
SUMMARY:Macmillan Coffee Morning
DESCRIPTION:
URL:https://www.kingtontourist.info/event/macmillan-coffee-morning-2/
LOCATION:Walton Village Hall\, LD8 2PY
END:VEVENT
END:VCALENDAR