BEGIN:VCALENDAR
VERSION:2.0
PRODID:-//Kington Tourist Information Centre - ECPv5.4.0//NONSGML v1.0//EN
CALSCALE:GREGORIAN
METHOD:PUBLISH
X-WR-CALNAME:Kington Tourist Information Centre
X-ORIGINAL-URL:https://www.kingtontourist.info
X-WR-CALDESC:Events for Kington Tourist Information Centre
BEGIN:VTIMEZONE
TZID:Europe/London
BEGIN:DAYLIGHT
TZOFFSETFROM:+0000
TZOFFSETTO:+0100
TZNAME:BST
DTSTART:20240331T010000
END:DAYLIGHT
BEGIN:STANDARD
TZOFFSETFROM:+0100
TZOFFSETTO:+0000
TZNAME:GMT
DTSTART:20241027T010000
END:STANDARD
END:VTIMEZONE
BEGIN:VEVENT
DTSTART;TZID=Europe/London:20240504T100000
DTEND;TZID=Europe/London:20240506T170000
DTSTAMP:20260419T135602
CREATED:20210725T215435Z
LAST-MODIFIED:20240314T134618Z
UID:12751-1714816800-1715014800@www.kingtontourist.info
SUMMARY:Marches Makers Festival
DESCRIPTION:We are excited to announce that our next Marches Makers Festival will be held over the\nMay Day holiday weekend 4th\, 5th and 6th May 2024 \nThis year\, more than 40 outstanding artists have been invited to exhibit their work in the\nbeautiful setting of St Mary’s Church\, Kington \nMore exhibitions are being held in and around Kington\, alongside open studios\, demonstrations\,\ncommunity participation events\, live theatre and music \nCome and be inspired! The festival weekend promises to be a wonderful experience for all ages\nso put us in your diary and join in the fun next May
URL:https://www.kingtontourist.info/event/marches-makers-festival-2/
LOCATION:Kington\, HR5
CATEGORIES:Art,Community,Craft,Environment,History,Wildlife
ATTACH;FMTTYPE=image/jpeg:https://www.kingtontourist.info/wp-content/uploads/2018/02/wp479c8556_05_06-e1522343620417.jpg
ORGANIZER;CN="Marches%20Makers":MAILTO:info@marchesmakers.co.uk
GEO:52.1706025;-3.146605
END:VEVENT
BEGIN:VEVENT
DTSTART;TZID=Europe/London:20240504T110000
DTEND;TZID=Europe/London:20240504T170000
DTSTAMP:20260419T135602
CREATED:20240314T134949Z
LAST-MODIFIED:20240314T135905Z
UID:16631-1714820400-1714842000@www.kingtontourist.info
SUMMARY:Rhodds Farm - Open
DESCRIPTION:Rhodds Farm started life as 2 tiny workmen’s cottages. They were turned into one and extended in Victorian times and the big threshing barn was probably built at around the same time. We moved here in September 2004 and did extensive building works\, extending the house\, converting the barn and dairy\, and restoring the granary. There was no garden when we arrived so work began on creating a new one early in 2005 and development has continued since then. It now extends to over 2 acres of garden and 13 acres of woodland.
URL:https://www.kingtontourist.info/event/rhodd-farm-open/2024-05-04/
LOCATION:Rhodds Farm\, Lyonshall\, Kington\, HR5 3LW\, United Kingdom
ATTACH;FMTTYPE=image/jpeg:https://www.kingtontourist.info/wp-content/uploads/2024/03/Rhodds-Farm-cropped.jpg
GEO:52.192267;-3.0036969
X-APPLE-STRUCTURED-LOCATION;VALUE=URI;X-ADDRESS=Rhodds Farm Lyonshall Kington HR5 3LW United Kingdom;X-APPLE-RADIUS=500;X-TITLE=Lyonshall:geo:-3.0036969,52.192267
END:VEVENT
BEGIN:VEVENT
DTSTART;TZID=Europe/London:20240504T110000
DTEND;TZID=Europe/London:20240506T170000
DTSTAMP:20260419T135602
CREATED:20240504T091735Z
LAST-MODIFIED:20240504T091904Z
UID:19255-1714820400-1715014800@www.kingtontourist.info
SUMMARY:May Day - Open Arms Kington
DESCRIPTION:May 4th-6th Cafe and bar open 11am-5pm \nBar and hot food Sat 4th from 6pm \nMusic from 7.30pm
URL:https://www.kingtontourist.info/event/may-day-open-arms-kington/2024-05-04/
ATTACH;FMTTYPE=image/jpeg:https://www.kingtontourist.info/wp-content/uploads/2024/05/oak-may-day.jpg
END:VEVENT
BEGIN:VEVENT
DTSTART;TZID=Europe/London:20240504T180000
DTEND;TZID=Europe/London:20240504T220000
DTSTAMP:20260419T135602
CREATED:20240504T091735Z
LAST-MODIFIED:20240504T091904Z
UID:19258-1714845600-1714860000@www.kingtontourist.info
SUMMARY:May Day - Open Arms Kington
DESCRIPTION:May 4th-6th Cafe and bar open 11am-5pm \nBar and hot food Sat 4th from 6pm \nMusic from 7.30pm
URL:https://www.kingtontourist.info/event/may-day-open-arms-kington/2024-05-04/2/
ATTACH;FMTTYPE=image/jpeg:https://www.kingtontourist.info/wp-content/uploads/2024/05/oak-may-day.jpg
END:VEVENT
END:VCALENDAR