BEGIN:VCALENDAR
VERSION:2.0
PRODID:-//Kington Tourist Information Centre - ECPv5.4.0//NONSGML v1.0//EN
CALSCALE:GREGORIAN
METHOD:PUBLISH
X-WR-CALNAME:Kington Tourist Information Centre
X-ORIGINAL-URL:https://www.kingtontourist.info
X-WR-CALDESC:Events for Kington Tourist Information Centre
BEGIN:VTIMEZONE
TZID:Europe/London
BEGIN:DAYLIGHT
TZOFFSETFROM:+0000
TZOFFSETTO:+0100
TZNAME:BST
DTSTART:20240331T010000
END:DAYLIGHT
BEGIN:STANDARD
TZOFFSETFROM:+0100
TZOFFSETTO:+0000
TZNAME:GMT
DTSTART:20241027T010000
END:STANDARD
END:VTIMEZONE
BEGIN:VEVENT
DTSTART;TZID=Europe/London:20240915T100000
DTEND;TZID=Europe/London:20240915T163000
DTSTAMP:20260420T110517
CREATED:20240912T161918Z
LAST-MODIFIED:20240912T161940Z
UID:19338-1726394400-1726417800@www.kingtontourist.info
SUMMARY:Heritage Day at The Oxford Arms
DESCRIPTION:This Sunday: Another chance to get a taste of droving life!\nLast Sunday’s Heritage Day was so much fun\, and we had a great turnout in spite of the awful weather… However\, a lot of people hoping to attend the Drover’s Walk were deterred by the rain and mud\, so we thought - why not do it all again this Sunday! \n10am - Guided walk in the footsteps of the drovers (6 miles over moderate terrain\, approximately 3 hours\, free of charge) \nExpect fascinating history and gorgeous views as you take a walk back in time along key droving routes in and around Kington via Park Wood and Hergest Ridge - wear suitable walking shoes\, dress for the weather and bring water/a drink of choice. Meet Annie at The Oxford Arms at 10am\, returning to The Oxford for lunch around 1pm \n11am-4.30pm - Bar and café open\, serving traditional “drover’s bait” ploughman’s lunches (crusty bread\, generous wedges of Shropshire Blue and mature cheddar cheeses\, optional cooked ham\, pickles and salad - we HIGHLY recommend!). Plus homemade cream teas and cakes - who could resist?\nGF bread & cake options available 🙂 \nAll day - Film \nA virtual pub crawl round Kington's drover's pubs\, with some brilliant images thanks to the Kington Museum archives
URL:https://www.kingtontourist.info/event/heritage-day-at-the-oxford-arms/
LOCATION:The Oxford Arms\, Duke Street\, Kington\, Herefordshire\, HR5 3DR\, United Kingdom
ORGANIZER;CN="Open%20Arms%20Kington%20at%20the%20Oxford%20Arms%20Hotel":MAILTO:info@openarmkington.co.uk
END:VEVENT
BEGIN:VEVENT
DTSTART;TZID=Europe/London:20240915T110000
DTEND;TZID=Europe/London:20240915T170000
DTSTAMP:20260420T110517
CREATED:20170505T152448Z
LAST-MODIFIED:20170505T152448Z
UID:19210-1726398000-1726419600@www.kingtontourist.info
SUMMARY:NGS - The Hymns
DESCRIPTION:The Hymns\n\n\n\n\nIn a beautiful setting in the heart of the Radnor valley\, the garden is part of a restored C16 farmstead\, with long views to the hills\, and the Radnor Forest. It is a traditional garden reclaimed from the wild\, using locally grown plants and seeds\, and with a herb patio\, wildflower meadows and a short woodland walk. It is designed for all the senses: sight\, sound and smell. \n\n\n\n\n\n\nSet just north of the Four Stones\, pre-historic standing stones\, there are mown walk ways to carefully placed garden benches\, and views to the hills and the ancient village of Old Radnor\, where Alfred Watkins evolved his thoughts of Ley-lines. The Hymns has inspired several artists\, the work of whom can sometimes be seen in the barn. It reflects the County motto : 'Powys Paradwys Cymru'\, 'Powys – the paradise of Wales'. See garden website for detailed information. \nHome-made teas. \nVisits also by arrangement 1/4 -23/9 \n5m W of Kington. take a44 W then 1st R for Kinnerton. After approx 1m  at the top of small hill turn L (W)
URL:https://www.kingtontourist.info/event/gardens-open-4/2024-09-15/
LOCATION:The Hymns\, Walton\, Presteigne\, LD8 2RA\, United Kingdom
CATEGORIES:Gardens
ATTACH;FMTTYPE=image/jpeg:https://www.kingtontourist.info/wp-content/uploads/2023/06/logo.4216fccbngs.jpg
GEO:52.240006;-3.1055034
X-APPLE-STRUCTURED-LOCATION;VALUE=URI;X-ADDRESS=The Hymns Walton Presteigne LD8 2RA United Kingdom;X-APPLE-RADIUS=500;X-TITLE=Walton:geo:-3.1055034,52.240006
END:VEVENT
END:VCALENDAR