BEGIN:VCALENDAR
VERSION:2.0
PRODID:-//Kington Tourist Information Centre - ECPv5.4.0//NONSGML v1.0//EN
CALSCALE:GREGORIAN
METHOD:PUBLISH
X-WR-CALNAME:Kington Tourist Information Centre
X-ORIGINAL-URL:https://www.kingtontourist.info
X-WR-CALDESC:Events for Kington Tourist Information Centre
BEGIN:VTIMEZONE
TZID:Europe/London
BEGIN:DAYLIGHT
TZOFFSETFROM:+0000
TZOFFSETTO:+0100
TZNAME:BST
DTSTART:20240331T010000
END:DAYLIGHT
BEGIN:STANDARD
TZOFFSETFROM:+0100
TZOFFSETTO:+0000
TZNAME:GMT
DTSTART:20241027T010000
END:STANDARD
END:VTIMEZONE
BEGIN:VEVENT
DTSTART;VALUE=DATE:20240919
DTEND;VALUE=DATE:20240923
DTSTAMP:20260420T043923
CREATED:20200812T133543Z
LAST-MODIFIED:20240314T141416Z
UID:12445-1726704000-1727049599@www.kingtontourist.info
SUMMARY:Kington Walks
DESCRIPTION:  \nSee their website for details. \nhttps://www.kingtonwalks.org/
URL:https://www.kingtontourist.info/event/kington-walks-3/
LOCATION:Kington\, HR5
CATEGORIES:Walking
ATTACH;FMTTYPE=image/jpeg:https://www.kingtontourist.info/wp-content/uploads/2020/08/kw_22_a_150x48-for-web.jpg
GEO:52.1706025;-3.146605
END:VEVENT
BEGIN:VEVENT
DTSTART;TZID=Europe/London:20240919T093000
DTEND;TZID=Europe/London:20240919T130000
DTSTAMP:20260420T043923
CREATED:20240912T162204Z
LAST-MODIFIED:20240912T162729Z
UID:19340-1726738200-1726750800@www.kingtontourist.info
SUMMARY:Healthy Heart drop in clinic
DESCRIPTION:Talk Wellbeing’s Healthy Heart drop-in clinic is next Thursday at The Oxford
URL:https://www.kingtontourist.info/event/19340/
LOCATION:The Oxford Arms\, Duke Street\, Kington\, Herefordshire\, HR5 3DR\, United Kingdom
ORGANIZER;CN="Open%20Arms%20Kington%20at%20the%20Oxford%20Arms%20Hotel":MAILTO:info@openarmkington.co.uk
END:VEVENT
END:VCALENDAR