BEGIN:VCALENDAR
VERSION:2.0
PRODID:-//Kington Tourist Information Centre - ECPv5.4.0//NONSGML v1.0//EN
CALSCALE:GREGORIAN
METHOD:PUBLISH
X-WR-CALNAME:Kington Tourist Information Centre
X-ORIGINAL-URL:https://www.kingtontourist.info
X-WR-CALDESC:Events for Kington Tourist Information Centre
BEGIN:VTIMEZONE
TZID:Europe/London
BEGIN:DAYLIGHT
TZOFFSETFROM:+0000
TZOFFSETTO:+0100
TZNAME:BST
DTSTART:20260329T010000
END:DAYLIGHT
BEGIN:STANDARD
TZOFFSETFROM:+0100
TZOFFSETTO:+0000
TZNAME:GMT
DTSTART:20261025T010000
END:STANDARD
END:VTIMEZONE
BEGIN:VEVENT
DTSTART;TZID=Europe/London:20260627T130000
DTEND;TZID=Europe/London:20260627T130000
DTSTAMP:20260419T142435
CREATED:20180614T170950Z
LAST-MODIFIED:20260315T163832Z
UID:9101-1782565200-1782565200@www.kingtontourist.info
SUMMARY:SmokeFest 2026
DESCRIPTION:Saturday 27th June from 1pm \nSmokefest Charity Family Music Festival \nRaising money for ‘We Are Farming Minds’ \nLocation: Kington Football Ground\, 33 Mill Street\, Kington HR53AL \nLive Bands / Food / Bars / Stalls / Face Painting / FREE Bouncy Castle and more…. \n£15 per person – under 16s Free when accompanied by an adult \nSmokefest Final Poster \n\n\n 
URL:https://www.kingtontourist.info/event/smokefest-2018/
LOCATION:Kington Football Ground\, Mill Street\, Kington\, Herefordshire\, HR5 3AL\, United Kingdom
CATEGORIES:Family,Live Music,Music
END:VEVENT
END:VCALENDAR