BEGIN:VCALENDAR
VERSION:2.0
PRODID:-//Kington Tourist Information Centre - ECPv5.4.0//NONSGML v1.0//EN
CALSCALE:GREGORIAN
METHOD:PUBLISH
X-WR-CALNAME:Kington Tourist Information Centre
X-ORIGINAL-URL:https://www.kingtontourist.info
X-WR-CALDESC:Events for Kington Tourist Information Centre
BEGIN:VTIMEZONE
TZID:Europe/London
BEGIN:DAYLIGHT
TZOFFSETFROM:+0000
TZOFFSETTO:+0100
TZNAME:BST
DTSTART:20260329T010000
END:DAYLIGHT
BEGIN:STANDARD
TZOFFSETFROM:+0100
TZOFFSETTO:+0000
TZNAME:GMT
DTSTART:20261025T010000
END:STANDARD
END:VTIMEZONE
BEGIN:VEVENT
DTSTART;TZID=Europe/London:20261120T090000
DTEND;TZID=Europe/London:20261120T130000
DTSTAMP:20260419T220613
CREATED:20200812T134947Z
LAST-MODIFIED:20200812T134947Z
UID:19692-1795165200-1795179600@www.kingtontourist.info
SUMMARY:Kington Markets
DESCRIPTION:Kington's weekly Friday Market \nLocal food and crafts every Friday 9am - 1pm \nAt Kington Market Hall and Place de Marines \nkingtoncommunitymarket@gmail.com
URL:https://www.kingtontourist.info/event/kington-markets/2026-11-20/
LOCATION:Kington Market Hall and Place de Marines\, Kington Market Hall and Place de Marines\, Kington\, Herefordshire\, HR5 3BQ\, United Kingdom
ORGANIZER;CN="Kington%20Markets":MAILTO:kingtoncommunitymarket@gmail.com
GEO:52.203742;-3.029048
X-APPLE-STRUCTURED-LOCATION;VALUE=URI;X-ADDRESS=Kington Market Hall and Place de Marines Kington Market Hall and Place de Marines Kington Herefordshire HR5 3BQ United Kingdom;X-APPLE-RADIUS=500;X-TITLE=Kington Market Hall and Place de Marines:geo:-3.029048,52.203742
END:VEVENT
BEGIN:VEVENT
DTSTART;TZID=Europe/London:20261120T190000
DTEND;TZID=Europe/London:20261120T190000
DTSTAMP:20260419T220613
CREATED:20260310T150428Z
LAST-MODIFIED:20260310T150428Z
UID:19742-1795201200-1795201200@www.kingtontourist.info
SUMMARY:Quiz
DESCRIPTION:Nigel (Griffiths) Nearly Christmas Quiz
URL:https://www.kingtontourist.info/event/quiz-4/
LOCATION:Kington Golf Club\, Bradnor Hill  \, Kington\, HR5 3RE\, United Kingdom
ATTACH;FMTTYPE=image/png:https://www.kingtontourist.info/wp-content/uploads/2018/09/the-logo.png
ORGANIZER;CN="Kington%20Golf%20Club":MAILTO:info@kingtongolf.co.uk
GEO:52.2195;-3.0519166
X-APPLE-STRUCTURED-LOCATION;VALUE=URI;X-ADDRESS=Kington Golf Club Bradnor Hill   Kington HR5 3RE United Kingdom;X-APPLE-RADIUS=500;X-TITLE=Bradnor Hill:geo:-3.0519166,52.2195
END:VEVENT
END:VCALENDAR