BEGIN:VCALENDAR
VERSION:2.0
PRODID:-//Kington Tourist Information Centre - ECPv5.4.0//NONSGML v1.0//EN
CALSCALE:GREGORIAN
METHOD:PUBLISH
X-WR-CALNAME:Kington Tourist Information Centre
X-ORIGINAL-URL:https://www.kingtontourist.info
X-WR-CALDESC:Events for Kington Tourist Information Centre
BEGIN:VTIMEZONE
TZID:Europe/London
BEGIN:DAYLIGHT
TZOFFSETFROM:+0000
TZOFFSETTO:+0100
TZNAME:BST
DTSTART:20210328T010000
END:DAYLIGHT
BEGIN:STANDARD
TZOFFSETFROM:+0100
TZOFFSETTO:+0000
TZNAME:GMT
DTSTART:20211031T010000
END:STANDARD
END:VTIMEZONE
BEGIN:VEVENT
DTSTART;TZID=Europe/London:20210703T110000
DTEND;TZID=Europe/London:20210706T160000
DTSTAMP:20260420T033544
CREATED:20210701T112427Z
LAST-MODIFIED:20210701T112720Z
UID:12709-1625310000-1625587200@www.kingtontourist.info
SUMMARY:Into the Meadows Exhibition
DESCRIPTION:Into the Meadows exhibition at Birches Farm nature reserve \nA group exhibition by local artists inspired by the wildflower meadows of Birches Farm nature reserve.
URL:https://www.kingtontourist.info/event/into-the-meadows-exhibition-at-birches-farm-nature-reserve/
LOCATION:Birches Farm\, Kington\, Herefordshire\, HR5 3EY\, United Kingdom
CATEGORIES:Art,Environment,Nature
ATTACH;FMTTYPE=image/jpeg:https://www.kingtontourist.info/wp-content/uploads/2017/03/the-wildlife-trusts.jpg
END:VEVENT
END:VCALENDAR