BEGIN:VCALENDAR
VERSION:2.0
PRODID:-//Kington Tourist Information Centre - ECPv5.4.0//NONSGML v1.0//EN
CALSCALE:GREGORIAN
METHOD:PUBLISH
X-WR-CALNAME:Kington Tourist Information Centre
X-ORIGINAL-URL:https://www.kingtontourist.info
X-WR-CALDESC:Events for Kington Tourist Information Centre
BEGIN:VTIMEZONE
TZID:Europe/London
BEGIN:DAYLIGHT
TZOFFSETFROM:+0000
TZOFFSETTO:+0100
TZNAME:BST
DTSTART:20190331T010000
END:DAYLIGHT
BEGIN:STANDARD
TZOFFSETFROM:+0100
TZOFFSETTO:+0000
TZNAME:GMT
DTSTART:20191027T010000
END:STANDARD
END:VTIMEZONE
BEGIN:VEVENT
DTSTART;TZID=Europe/London:20190511T090000
DTEND;TZID=Europe/London:20190511T160000
DTSTAMP:20260425T180022
CREATED:20170118T154556Z
LAST-MODIFIED:20190416T204442Z
UID:5275-1557565200-1557590400@www.kingtontourist.info
SUMMARY:Burton Court Antiquesintents
DESCRIPTION:
URL:https://www.kingtontourist.info/event/wedding-fayre/2019-05-11/
LOCATION:Burton Court HR6 9DN\, Eardisland\, Nr Leominster\, Herefordshire\, HR6 9DN\, United Kingdom
CATEGORIES:Art,Auction,Sale
END:VEVENT
END:VCALENDAR