BEGIN:VCALENDAR
VERSION:2.0
PRODID:-//Kington Tourist Information Centre - ECPv5.4.0//NONSGML v1.0//EN
CALSCALE:GREGORIAN
METHOD:PUBLISH
X-WR-CALNAME:Kington Tourist Information Centre
X-ORIGINAL-URL:https://www.kingtontourist.info
X-WR-CALDESC:Events for Kington Tourist Information Centre
BEGIN:VTIMEZONE
TZID:Europe/London
BEGIN:DAYLIGHT
TZOFFSETFROM:+0000
TZOFFSETTO:+0100
TZNAME:BST
DTSTART:20190331T010000
END:DAYLIGHT
BEGIN:STANDARD
TZOFFSETFROM:+0100
TZOFFSETTO:+0000
TZNAME:GMT
DTSTART:20191027T010000
END:STANDARD
END:VTIMEZONE
BEGIN:VEVENT
DTSTART;TZID=Europe/London:20190622T140000
DTEND;TZID=Europe/London:20190622T140000
DTSTAMP:20260422T224449
CREATED:20170506T135737Z
LAST-MODIFIED:20190403T160550Z
UID:6498-1561212000-1561212000@www.kingtontourist.info
SUMMARY:Church Fete
DESCRIPTION:Kington Vicarage Garden. The Vicar\, Churchwardens & P.C.C. of St. Mary's Church are pleased to hold its annual Church Fete.\nJoin us for this family occasion when there will be stalls\, games\, competitions\, music\, fun for all & of course\, scrumptious teas.\nParking in Churchyard. Disabled parking at Parish House. Free entry. Visit www.kingtonparishes.org.uk \nTime tbc
URL:https://www.kingtontourist.info/event/church-fete/
LOCATION:St Mary’s Vicarage Garden\, Church Road\, Kington\, HR5 3AG\, United Kingdom
CATEGORIES:Church,Community,Family,Food and Drink,Sport,Teas
ATTACH;FMTTYPE=image/png:https://www.kingtontourist.info/wp-content/uploads/2017/05/524638_627852873910414_1839921187_n.png
ORGANIZER;CN="Kington%20Festival%20Commitee":MAILTO:info@kingtonfestival.co.uk
GEO:52.2048532;-3.0363056
X-APPLE-STRUCTURED-LOCATION;VALUE=URI;X-ADDRESS=St Mary’s Vicarage Garden Church Road Kington HR5 3AG United Kingdom;X-APPLE-RADIUS=500;X-TITLE=Church Road:geo:-3.0363056,52.2048532
END:VEVENT
END:VCALENDAR