BEGIN:VCALENDAR
VERSION:2.0
PRODID:-//Kington Tourist Information Centre - ECPv5.4.0//NONSGML v1.0//EN
CALSCALE:GREGORIAN
METHOD:PUBLISH
X-WR-CALNAME:Kington Tourist Information Centre
X-ORIGINAL-URL:https://www.kingtontourist.info
X-WR-CALDESC:Events for Kington Tourist Information Centre
BEGIN:VTIMEZONE
TZID:Europe/London
BEGIN:DAYLIGHT
TZOFFSETFROM:+0000
TZOFFSETTO:+0100
TZNAME:BST
DTSTART:20190331T010000
END:DAYLIGHT
BEGIN:STANDARD
TZOFFSETFROM:+0100
TZOFFSETTO:+0000
TZNAME:GMT
DTSTART:20191027T010000
END:STANDARD
END:VTIMEZONE
BEGIN:VEVENT
DTSTART;TZID=Europe/London:20191102T181500
DTEND;TZID=Europe/London:20191102T181500
DTSTAMP:20260421T002159
CREATED:20191010T074114Z
LAST-MODIFIED:20191010T074114Z
UID:11626-1572718500-1572718500@www.kingtontourist.info
SUMMARY:Presteigne Fireworks
DESCRIPTION:Presteigne Fireworks \nSheep Music will once again be hosting the Presteigne Fireworks which will take place on Saturday 2 November. The theme this year will be linked to the 50th anniversary of the first man on the moon. The parade will leave the Recycling centre at 6.15pm with fireworks at Went's Meadow at 6.45pm. With fire sculpture\, fireworks\, live band\, hot food and bar.\n£4\, under 12s free.\nSaturday 2 November at Went’s Meadow\, Knighton Road\, Presteigne\, Powys LD8 2BW
URL:https://www.kingtontourist.info/event/presteigne-fireworks/
LOCATION:Went’s Meadow\, 1 Knighton Road\, Presteigne\, Powys\, LD8 2BW
CATEGORIES:Community
END:VEVENT
END:VCALENDAR