BEGIN:VCALENDAR
VERSION:2.0
PRODID:-//Kington Tourist Information Centre - ECPv5.4.0//NONSGML v1.0//EN
CALSCALE:GREGORIAN
METHOD:PUBLISH
X-WR-CALNAME:Kington Tourist Information Centre
X-ORIGINAL-URL:https://www.kingtontourist.info
X-WR-CALDESC:Events for Kington Tourist Information Centre
BEGIN:VTIMEZONE
TZID:Europe/London
BEGIN:DAYLIGHT
TZOFFSETFROM:+0000
TZOFFSETTO:+0100
TZNAME:BST
DTSTART:20240331T010000
END:DAYLIGHT
BEGIN:STANDARD
TZOFFSETFROM:+0100
TZOFFSETTO:+0000
TZNAME:GMT
DTSTART:20241027T010000
END:STANDARD
END:VTIMEZONE
BEGIN:VEVENT
DTSTART;TZID=Europe/London:20240713T133000
DTEND;TZID=Europe/London:20240713T223000
DTSTAMP:20260420T193231
CREATED:20170701T105611Z
LAST-MODIFIED:20240613T171958Z
UID:6891-1720877400-1720909800@www.kingtontourist.info
SUMMARY:Presteigne Carnival
DESCRIPTION:Went's Meadow Presteigne from 1.30pm - 10.30pm \nParade through High Street at 12.45pm
URL:https://www.kingtontourist.info/event/presteigne-carnival/
LOCATION:Presteigne\, Powys\, LD8\, United Kingdom
CATEGORIES:Community,Family
ATTACH;FMTTYPE=image/jpeg:https://www.kingtontourist.info/wp-content/uploads/2024/06/Presteigne-carnival-cropped.jpg
END:VEVENT
END:VCALENDAR