BEGIN:VCALENDAR
VERSION:2.0
PRODID:-//Kington Tourist Information Centre - ECPv5.4.0//NONSGML v1.0//EN
CALSCALE:GREGORIAN
METHOD:PUBLISH
X-WR-CALNAME:Kington Tourist Information Centre
X-ORIGINAL-URL:https://www.kingtontourist.info
X-WR-CALDESC:Events for Kington Tourist Information Centre
BEGIN:VTIMEZONE
TZID:Europe/London
BEGIN:DAYLIGHT
TZOFFSETFROM:+0000
TZOFFSETTO:+0100
TZNAME:BST
DTSTART:20220327T010000
END:DAYLIGHT
BEGIN:STANDARD
TZOFFSETFROM:+0100
TZOFFSETTO:+0000
TZNAME:GMT
DTSTART:20221030T010000
END:STANDARD
END:VTIMEZONE
BEGIN:VEVENT
DTSTART;TZID=Europe/London:20220820T090000
DTEND;TZID=Europe/London:20220821T170000
DTSTAMP:20260422T112750
CREATED:20170314T151141Z
LAST-MODIFIED:20220722T091027Z
UID:5984-1660986000-1661101200@www.kingtontourist.info
SUMMARY:Kington Vintage Rally
DESCRIPTION:Kington Vintage Club  Rally \nIncluding all manner of Classic and Vintage Vehicles and Machines \nMore information \nhttps://allevents.in/events/kington-vintage-rally-2022/200022708189113 \n 
URL:https://www.kingtontourist.info/event/kington-vintage-show/
LOCATION:Kington Recreation Ground\, Park Avenue\, Kington\, HR5 3AL\, United Kingdom
CATEGORIES:Fete,Shows,Vintage
ORGANIZER;CN="Kington%20Vintage":MAILTO:kingtonvintage@yahoo.co.uk
GEO:52.2019833;-3.0358046
X-APPLE-STRUCTURED-LOCATION;VALUE=URI;X-ADDRESS=Kington Recreation Ground Park Avenue Kington HR5 3AL United Kingdom;X-APPLE-RADIUS=500;X-TITLE=Park Avenue:geo:-3.0358046,52.2019833
END:VEVENT
END:VCALENDAR