BEGIN:VCALENDAR
VERSION:2.0
PRODID:-//Kington Tourist Information Centre - ECPv5.4.0//NONSGML v1.0//EN
CALSCALE:GREGORIAN
METHOD:PUBLISH
X-WR-CALNAME:Kington Tourist Information Centre
X-ORIGINAL-URL:https://www.kingtontourist.info
X-WR-CALDESC:Events for Kington Tourist Information Centre
BEGIN:VTIMEZONE
TZID:Europe/London
BEGIN:DAYLIGHT
TZOFFSETFROM:+0000
TZOFFSETTO:+0100
TZNAME:BST
DTSTART:20240331T010000
END:DAYLIGHT
BEGIN:STANDARD
TZOFFSETFROM:+0100
TZOFFSETTO:+0000
TZNAME:GMT
DTSTART:20241027T010000
END:STANDARD
END:VTIMEZONE
BEGIN:VEVENT
DTSTART;TZID=Europe/London:20240104T143000
DTEND;TZID=Europe/London:20240104T143000
DTSTAMP:20260422T141927
CREATED:20201106T172507Z
LAST-MODIFIED:20231115T100821Z
UID:12549-1704378600-1704378600@www.kingtontourist.info
SUMMARY:Flicks in the Sticks - Brilley
DESCRIPTION:Thursday 4th January: The Old Oak \nKen Loach’s latest film follows TJ Ballantyne\, a pub landlord in a previously thriving mining community. The Old Oak is the name of his pub\, the one community meeting place - and it is in dire need of refurbishment. His regulars are seething with rage\, livid at the collapse in house prices and brooding over YouTube videos about immigrants. Then a busload of terrified Syrians arrives in town and the tension gets worse. \nAdvance booking only - please book and pay for your tickets online at pay-brilley.co.uk - please note that if you do not get an almost immediate email confirmation\, then your payment has not gone through and you will need to try again! \nDoors open at 7pm. Don't forget to bring your own refreshments!
URL:https://www.kingtontourist.info/event/flicks-in-the-sticks-brilley-15/
LOCATION:Brilley and Michaelchurch Village Hall\, Brilley\, HR3 6JG\, United Kingdom
CATEGORIES:Film
GEO:52.1409756;-3.0779444
X-APPLE-STRUCTURED-LOCATION;VALUE=URI;X-ADDRESS=Brilley and Michaelchurch Village Hall Brilley HR3 6JG United Kingdom;X-APPLE-RADIUS=500;X-TITLE=Brilley:geo:-3.0779444,52.1409756
END:VEVENT
END:VCALENDAR