BEGIN:VCALENDAR
VERSION:2.0
PRODID:-//Kington Tourist Information Centre - ECPv5.4.0//NONSGML v1.0//EN
CALSCALE:GREGORIAN
METHOD:PUBLISH
X-WR-CALNAME:Kington Tourist Information Centre
X-ORIGINAL-URL:https://www.kingtontourist.info
X-WR-CALDESC:Events for Kington Tourist Information Centre
BEGIN:VTIMEZONE
TZID:Europe/London
BEGIN:DAYLIGHT
TZOFFSETFROM:+0000
TZOFFSETTO:+0100
TZNAME:BST
DTSTART:20190331T010000
END:DAYLIGHT
BEGIN:STANDARD
TZOFFSETFROM:+0100
TZOFFSETTO:+0000
TZNAME:GMT
DTSTART:20191027T010000
END:STANDARD
END:VTIMEZONE
BEGIN:VEVENT
DTSTART;TZID=Europe/London:20190504T180000
DTEND;TZID=Europe/London:20190504T200000
DTSTAMP:20260425T155901
CREATED:20190405T142953Z
LAST-MODIFIED:20190406T170308Z
UID:10631-1556992800-1557000000@www.kingtontourist.info
SUMMARY:Gig in the Garden
DESCRIPTION:The Mustangs. \nMUSTANGS RETURN WITH NEW ENVIRONMENTALLY THEMED SINGLE & ALBUM\nThe Mustangs are back with a brand new album\, WATERTOWN\, out in May\, and preceded by their new single 'SHE DIDN’T GET INTO THE WATER' \nThe album is an environmentally-themed concept album about industrialisation\, Americanisation and pollution\, and is the band’s ninth studio album of original material.  The band’s drummer Jon Bartley\, is also the co-leader of the National Green Party. Jon says: “This album is very fulfilling to me\, it’s the first time we’ve done something that aligns with what I do politically. \nBut it’s also got some great tunes and lovely performances”.\nThe album has been mixed by renowned blues producer and four-time British Blues Award winner Wayne Proctor. Wayne has previously worked with acts like King King\, Ben Poole and Oli Brown. He also produced the Mustangs’ last album Just Passing Through. “You always know you’re going to get Grade-A songwriting with these guys”\, says Wayne. \n“Not just interesting arrangements\, but also great lyrics and melodies”.\nMain songwriter\, singer & guitarist Adam Norsworthy says\, “We’ve stretched our wings on this record to take in more of our influences and the music we love\, including folk\, rock\, country\, prog and psychedelia. The Mustangs DNA is still present. \nFrom 6pm for BBQ \nTicket only event \nTickets £5\nAvailable from The Royal Oak Kington\nTel 01544 231864
URL:https://www.kingtontourist.info/event/gig-in-the-garden/
LOCATION:The Royal Oak\, Church Street\, Kington\, HR5 3BE\, United Kingdom
CATEGORIES:Family,Food and Drink,Live Music,Music
END:VEVENT
END:VCALENDAR